BEGIN:VCALENDAR
VERSION:2.0
PRODID:-//Devi Mandir Canada - ECPv6.15.16//NONSGML v1.0//EN
CALSCALE:GREGORIAN
METHOD:PUBLISH
X-WR-CALNAME:Devi Mandir Canada
X-ORIGINAL-URL:https://devimandir.com
X-WR-CALDESC:Events for Devi Mandir Canada
REFRESH-INTERVAL;VALUE=DURATION:PT1H
X-Robots-Tag:noindex
X-PUBLISHED-TTL:PT1H
BEGIN:VTIMEZONE
TZID:UTC
BEGIN:STANDARD
TZOFFSETFROM:+0000
TZOFFSETTO:+0000
TZNAME:UTC
DTSTART:20240101T000000
END:STANDARD
END:VTIMEZONE
BEGIN:VEVENT
DTSTART;TZID=UTC:20251109T150000
DTEND;TZID=UTC:20251109T190000
DTSTAMP:20260423T182109
CREATED:20251026T150932Z
LAST-MODIFIED:20251026T150932Z
UID:27506-1762700400-1762714800@devimandir.com
SUMMARY:Guruji Mandir- Satsang
DESCRIPTION:
URL:https://devimandir.com/event/guruji-mandir-satsang-26/
CATEGORIES:Special event
END:VEVENT
BEGIN:VEVENT
DTSTART;TZID=UTC:20251108T170000
DTEND;TZID=UTC:20251108T200000
DTSTAMP:20260423T182109
CREATED:20251006T150916Z
LAST-MODIFIED:20251006T151120Z
UID:26876-1762621200-1762632000@devimandir.com
SUMMARY:HANUMAN Ji’s SUNDERKAND
DESCRIPTION:
URL:https://devimandir.com/event/hanuman-jis-sunderkand-6/
CATEGORIES:Special event
END:VEVENT
BEGIN:VEVENT
DTSTART;TZID=UTC:20251105T080000
DTEND;TZID=UTC:20251105T200000
DTSTAMP:20260423T182109
CREATED:20241221T173242Z
LAST-MODIFIED:20241221T173242Z
UID:25446-1762329600-1762372800@devimandir.com
SUMMARY:KARTIK PUJA
DESCRIPTION:
URL:https://devimandir.com/event/kartik-puja/
CATEGORIES:Special event
END:VEVENT
BEGIN:VEVENT
DTSTART;TZID=UTC:20251105T180000
DTEND;TZID=UTC:20251105T200000
DTSTAMP:20260423T182109
CREATED:20251012T140829Z
LAST-MODIFIED:20251012T163513Z
UID:27266-1762365600-1762372800@devimandir.com
SUMMARY:Guruji Mandir-Gurpurab celebration
DESCRIPTION:Time to be confirmed
URL:https://devimandir.com/event/guruji-mandir-gurpurab-celebration/
CATEGORIES:Special event
END:VEVENT
BEGIN:VEVENT
DTSTART;TZID=UTC:20251102T150000
DTEND;TZID=UTC:20251102T190000
DTSTAMP:20260423T182109
CREATED:20251026T150849Z
LAST-MODIFIED:20251026T150849Z
UID:27504-1762095600-1762110000@devimandir.com
SUMMARY:Guruji Mandir- Satsang
DESCRIPTION:
URL:https://devimandir.com/event/guruji-mandir-satsang-21/
CATEGORIES:Special event
END:VEVENT
BEGIN:VEVENT
DTSTART;TZID=UTC:20251102T080000
DTEND;TZID=UTC:20251102T170000
DTSTAMP:20260423T182109
CREATED:20240907T162416Z
LAST-MODIFIED:20240907T162416Z
UID:24711-1762070400-1762102800@devimandir.com
SUMMARY:TULSI VIVAAH
DESCRIPTION:
URL:https://devimandir.com/event/tulsi-vivaah/
CATEGORIES:Special event
END:VEVENT
BEGIN:VEVENT
DTSTART;TZID=UTC:20251101T110000
DTEND;TZID=UTC:20251101T140000
DTSTAMP:20260423T182109
CREATED:20250926T145859Z
LAST-MODIFIED:20251002T154812Z
UID:26745-1761994800-1762005600@devimandir.com
SUMMARY:Memorial Service
DESCRIPTION:
URL:https://devimandir.com/event/memorial-service-tentative/
CATEGORIES:Special event
END:VEVENT
BEGIN:VEVENT
DTSTART;TZID=UTC:20251026T150000
DTEND;TZID=UTC:20251026T190000
DTSTAMP:20260423T182109
CREATED:20250712T180359Z
LAST-MODIFIED:20250712T180359Z
UID:26443-1761490800-1761505200@devimandir.com
SUMMARY:Guruji Mandir- Satsang
DESCRIPTION:
URL:https://devimandir.com/event/guruji-mandir-satsang-25/
CATEGORIES:Special event
END:VEVENT
BEGIN:VEVENT
DTSTART;TZID=UTC:20251026T120000
DTEND;TZID=UTC:20251026T130000
DTSTAMP:20260423T182109
CREATED:20250927T172732Z
LAST-MODIFIED:20250927T172732Z
UID:26749-1761480000-1761483600@devimandir.com
SUMMARY:Volunteer Town Hall
DESCRIPTION:
URL:https://devimandir.com/event/volunteer-town-hall/
CATEGORIES:Special event
END:VEVENT
BEGIN:VEVENT
DTSTART;TZID=UTC:20251025T180000
DTEND;TZID=UTC:20251025T210000
DTSTAMP:20260423T182109
CREATED:20241221T171038Z
LAST-MODIFIED:20241221T171038Z
UID:25442-1761415200-1761426000@devimandir.com
SUMMARY:DIWALI SHOW
DESCRIPTION:
URL:https://devimandir.com/event/diwali-show/
CATEGORIES:Special event
END:VEVENT
BEGIN:VEVENT
DTSTART;TZID=UTC:20251021T080000
DTEND;TZID=UTC:20251021T170000
DTSTAMP:20260423T182109
CREATED:20241221T170231Z
LAST-MODIFIED:20241221T170231Z
UID:25437-1761033600-1761066000@devimandir.com
SUMMARY:GOVARDHAN PUJA
DESCRIPTION:
URL:https://devimandir.com/event/govardhan-puja/
CATEGORIES:Special event
END:VEVENT
BEGIN:VEVENT
DTSTART;TZID=UTC:20251020T080000
DTEND;TZID=UTC:20251020T200000
DTSTAMP:20260423T182109
CREATED:20241221T173014Z
LAST-MODIFIED:20241221T173014Z
UID:25444-1760947200-1760990400@devimandir.com
SUMMARY:MAA LAKSHMI ABHISHEK (morning) Satsang (evening)
DESCRIPTION:
URL:https://devimandir.com/event/maa-lakshmi-abhishek-morning-satsang-evening/
CATEGORIES:Special event
END:VEVENT
BEGIN:VEVENT
DTSTART;TZID=UTC:20251020T080000
DTEND;TZID=UTC:20251020T200000
DTSTAMP:20260423T182109
CREATED:20240907T161954Z
LAST-MODIFIED:20240907T161954Z
UID:24707-1760947200-1760990400@devimandir.com
SUMMARY:DIWALI
DESCRIPTION:
URL:https://devimandir.com/event/diwali-2/
CATEGORIES:Special event
END:VEVENT
BEGIN:VEVENT
DTSTART;TZID=UTC:20251019T150000
DTEND;TZID=UTC:20251019T190000
DTSTAMP:20260423T182109
CREATED:20250712T180258Z
LAST-MODIFIED:20250712T180258Z
UID:26441-1760886000-1760900400@devimandir.com
SUMMARY:Guruji Mandir- Satsang
DESCRIPTION:
URL:https://devimandir.com/event/guruji-mandir-satsang-24/
CATEGORIES:Special event
END:VEVENT
BEGIN:VEVENT
DTSTART;TZID=UTC:20251019T090000
DTEND;TZID=UTC:20251019T110000
DTSTAMP:20260423T182109
CREATED:20251017T174958Z
LAST-MODIFIED:20251017T174958Z
UID:27281-1760864400-1760871600@devimandir.com
SUMMARY:Bhajanavali by Pt.Neil
DESCRIPTION:
URL:https://devimandir.com/event/bhajanavali-by-pt-neil-2/
CATEGORIES:Special event
END:VEVENT
BEGIN:VEVENT
DTSTART;TZID=UTC:20251018T110000
DTEND;TZID=UTC:20251018T140000
DTSTAMP:20260423T182109
CREATED:20251002T174719Z
LAST-MODIFIED:20251002T174719Z
UID:26753-1760785200-1760796000@devimandir.com
SUMMARY:Maa Lakshmi Puja
DESCRIPTION:
URL:https://devimandir.com/event/maa-lakshmi-puja/
CATEGORIES:Special event
END:VEVENT
BEGIN:VEVENT
DTSTART;TZID=UTC:20251018T080000
DTEND;TZID=UTC:20251018T200000
DTSTAMP:20260423T182109
CREATED:20241221T170134Z
LAST-MODIFIED:20241221T170134Z
UID:25434-1760774400-1760817600@devimandir.com
SUMMARY:DHANTERAS
DESCRIPTION:
URL:https://devimandir.com/event/dhanteras/
CATEGORIES:Special event
END:VEVENT
BEGIN:VEVENT
DTSTART;TZID=UTC:20251012T150000
DTEND;TZID=UTC:20251012T190000
DTSTAMP:20260423T182109
CREATED:20250712T180109Z
LAST-MODIFIED:20250712T180109Z
UID:26439-1760281200-1760295600@devimandir.com
SUMMARY:Guruji Mandir- Satsang
DESCRIPTION:
URL:https://devimandir.com/event/guruji-mandir-satsang-23/
CATEGORIES:Special event
END:VEVENT
BEGIN:VEVENT
DTSTART;TZID=UTC:20251009T072400
DTEND;TZID=UTC:20251009T195400
DTSTAMP:20260423T182109
CREATED:20240907T162158Z
LAST-MODIFIED:20241221T170308Z
UID:24709-1759994640-1760039640@devimandir.com
SUMMARY:KARWA CHAUTH PUJA (4pm-8pm)
DESCRIPTION:
URL:https://devimandir.com/event/karwa-chauth/
CATEGORIES:Special event
END:VEVENT
BEGIN:VEVENT
DTSTART;TZID=UTC:20251006T170000
DTEND;TZID=UTC:20251006T200000
DTSTAMP:20260423T182109
CREATED:20241221T165815Z
LAST-MODIFIED:20241221T165815Z
UID:25428-1759770000-1759780800@devimandir.com
SUMMARY:Satya Narayan Vrat Pooja
DESCRIPTION:
URL:https://devimandir.com/event/satya-narayan-vrat-pooja-3/
CATEGORIES:Special event
END:VEVENT
BEGIN:VEVENT
DTSTART;TZID=UTC:20251005T150000
DTEND;TZID=UTC:20251005T190000
DTSTAMP:20260423T182109
CREATED:20250712T175905Z
LAST-MODIFIED:20250712T175905Z
UID:26437-1759676400-1759690800@devimandir.com
SUMMARY:Guruji Mandir- Satsang
DESCRIPTION:
URL:https://devimandir.com/event/guruji-mandir-satsang-22/
CATEGORIES:Special event
END:VEVENT
BEGIN:VEVENT
DTSTART;TZID=UTC:20251004T100000
DTEND;TZID=UTC:20251004T170000
DTSTAMP:20260423T182109
CREATED:20250815T144643Z
LAST-MODIFIED:20250910T181156Z
UID:26565-1759572000-1759597200@devimandir.com
SUMMARY:Engagement ceremony
DESCRIPTION:
URL:https://devimandir.com/event/engagement-ceremony-tentative/
CATEGORIES:Special event
END:VEVENT
BEGIN:VEVENT
DTSTART;TZID=UTC:20251002T120000
DTEND;TZID=UTC:20251002T130000
DTSTAMP:20260423T182109
CREATED:20250923T144617Z
LAST-MODIFIED:20250923T144617Z
UID:26739-1759406400-1759410000@devimandir.com
SUMMARY:Jai Mala ceremony
DESCRIPTION:
URL:https://devimandir.com/event/jai-mala-ceremony-5/
CATEGORIES:Special event
END:VEVENT
BEGIN:VEVENT
DTSTART;TZID=UTC:20251001T080000
DTEND;TZID=UTC:20251001T200000
DTSTAMP:20260423T182109
CREATED:20241219T182106Z
LAST-MODIFIED:20241219T182106Z
UID:25403-1759305600-1759348800@devimandir.com
SUMMARY:VIJAYA DASHMI
DESCRIPTION:
URL:https://devimandir.com/event/vijaya-dashmi/
CATEGORIES:Special event
END:VEVENT
BEGIN:VEVENT
DTSTART;TZID=UTC:20250929T170000
DTEND;TZID=UTC:20250929T210000
DTSTAMP:20260423T182109
CREATED:20240926T160504Z
LAST-MODIFIED:20240926T160504Z
UID:24843-1759165200-1759179600@devimandir.com
SUMMARY:BOOKED FOR SPONSORSHIP
DESCRIPTION:
URL:https://devimandir.com/event/booked-for-sponsorship-2/
CATEGORIES:Special event
END:VEVENT
BEGIN:VEVENT
DTSTART;TZID=UTC:20250926T170000
DTEND;TZID=UTC:20250930T200000
DTSTAMP:20260423T182109
CREATED:20241219T182253Z
LAST-MODIFIED:20241219T183101Z
UID:25406-1758906000-1759262400@devimandir.com
SUMMARY:NAVRATRI PROGRAM by Pt.Neil (26th-30th)
DESCRIPTION:
URL:https://devimandir.com/event/navratri-program-by-pt-neil/
CATEGORIES:Special event
END:VEVENT
BEGIN:VEVENT
DTSTART;TZID=UTC:20250922T170000
DTEND;TZID=UTC:20250925T200000
DTSTAMP:20260423T182109
CREATED:20241219T182432Z
LAST-MODIFIED:20241219T183125Z
UID:25408-1758560400-1758830400@devimandir.com
SUMMARY:NAVRATRI  PROGRAM by Devi Mandir (22nd-25th)
DESCRIPTION:
URL:https://devimandir.com/event/navratri-program-by-devi-mandir/
CATEGORIES:Special event
END:VEVENT
BEGIN:VEVENT
DTSTART;TZID=UTC:20250921T150000
DTEND;TZID=UTC:20250921T190000
DTSTAMP:20260423T182109
CREATED:20250712T175630Z
LAST-MODIFIED:20250712T175630Z
UID:26433-1758466800-1758481200@devimandir.com
SUMMARY:Guruji Mandir- Satsang
DESCRIPTION:
URL:https://devimandir.com/event/guruji-mandir-satsang-20/
CATEGORIES:Special event
END:VEVENT
BEGIN:VEVENT
DTSTART;TZID=UTC:20250921T080000
DTEND;TZID=UTC:20250921T155500
DTSTAMP:20260423T182109
CREATED:20241219T181418Z
LAST-MODIFIED:20241219T181418Z
UID:25400-1758441600-1758470100@devimandir.com
SUMMARY:Pitri Paksh Ends- 21st@ 3:55pm
DESCRIPTION:
URL:https://devimandir.com/event/pitri-paksh-ends-21st-355pm/
CATEGORIES:Special event
END:VEVENT
BEGIN:VEVENT
DTSTART;TZID=UTC:20250920T100000
DTEND;TZID=UTC:20250920T140000
DTSTAMP:20260423T182109
CREATED:20250819T152843Z
LAST-MODIFIED:20250819T152843Z
UID:26567-1758362400-1758376800@devimandir.com
SUMMARY:Private Puja
DESCRIPTION:
URL:https://devimandir.com/event/private-puja-2/
CATEGORIES:Special event
END:VEVENT
END:VCALENDAR