BEGIN:VCALENDAR
VERSION:2.0
PRODID:-//Devi Mandir Canada - ECPv6.15.16//NONSGML v1.0//EN
CALSCALE:GREGORIAN
METHOD:PUBLISH
X-ORIGINAL-URL:https://devimandir.com
X-WR-CALDESC:Events for Devi Mandir Canada
REFRESH-INTERVAL;VALUE=DURATION:PT1H
X-Robots-Tag:noindex
X-PUBLISHED-TTL:PT1H
BEGIN:VTIMEZONE
TZID:UTC
BEGIN:STANDARD
TZOFFSETFROM:+0000
TZOFFSETTO:+0000
TZNAME:UTC
DTSTART:20240101T000000
END:STANDARD
END:VTIMEZONE
BEGIN:VEVENT
DTSTART;TZID=UTC:20251125T121500
DTEND;TZID=UTC:20251125T124500
DTSTAMP:20260423T212734
CREATED:20251004T183443Z
LAST-MODIFIED:20251004T183443Z
UID:26776-1764072900-1764074700@devimandir.com
SUMMARY:School visit-Notre Dame
DESCRIPTION:
URL:https://devimandir.com/event/school-visit-notre-dame-3/
CATEGORIES:SCHOOL VISIT
END:VEVENT
END:VCALENDAR