BEGIN:VCALENDAR
VERSION:2.0
PRODID:-//Devi Mandir Canada - ECPv6.15.16//NONSGML v1.0//EN
CALSCALE:GREGORIAN
METHOD:PUBLISH
X-WR-CALNAME:Devi Mandir Canada
X-ORIGINAL-URL:https://devimandir.com
X-WR-CALDESC:Events for Devi Mandir Canada
REFRESH-INTERVAL;VALUE=DURATION:PT1H
X-Robots-Tag:noindex
X-PUBLISHED-TTL:PT1H
BEGIN:VTIMEZONE
TZID:UTC
BEGIN:STANDARD
TZOFFSETFROM:+0000
TZOFFSETTO:+0000
TZNAME:UTC
DTSTART:20240101T000000
END:STANDARD
END:VTIMEZONE
BEGIN:VEVENT
DTSTART;TZID=UTC:20251120T122000
DTEND;TZID=UTC:20251120T130000
DTSTAMP:20260423T202651
CREATED:20251004T183319Z
LAST-MODIFIED:20251004T183319Z
UID:26774-1763641200-1763643600@devimandir.com
SUMMARY:School visit-Monsignor Paul Dwyer
DESCRIPTION:
URL:https://devimandir.com/event/school-visit-monsignor-paul-dwyer/
CATEGORIES:SCHOOL VISIT
END:VEVENT
END:VCALENDAR