BEGIN:VCALENDAR
VERSION:2.0
PRODID:-//Devi Mandir Canada - ECPv6.15.16//NONSGML v1.0//EN
CALSCALE:GREGORIAN
METHOD:PUBLISH
X-WR-CALNAME:Devi Mandir Canada
X-ORIGINAL-URL:https://devimandir.com
X-WR-CALDESC:Events for Devi Mandir Canada
REFRESH-INTERVAL;VALUE=DURATION:PT1H
X-Robots-Tag:noindex
X-PUBLISHED-TTL:PT1H
BEGIN:VTIMEZONE
TZID:UTC
BEGIN:STANDARD
TZOFFSETFROM:+0000
TZOFFSETTO:+0000
TZNAME:UTC
DTSTART:20230101T000000
END:STANDARD
END:VTIMEZONE
BEGIN:VEVENT
DTSTART;TZID=UTC:20241015T180000
DTEND;TZID=UTC:20241015T200000
DTSTAMP:20260420T023436
CREATED:20240701T152511Z
LAST-MODIFIED:20240701T152539Z
UID:22661-1729015200-1729022400@devimandir.com
SUMMARY:Hanuman ji Puja-Abhishek-Archana-Prasad-Chalisa-Bhajans- Aarti
DESCRIPTION:
URL:https://devimandir.com/event/hanuman-ji-puja-abhishek-archana-prasad-chalisa-bhajans-aarti-19/
CATEGORIES:Puja-Every Tuesday
END:VEVENT
END:VCALENDAR