BEGIN:VCALENDAR
VERSION:2.0
PRODID:-//Devi Mandir Canada - ECPv6.15.16//NONSGML v1.0//EN
CALSCALE:GREGORIAN
METHOD:PUBLISH
X-ORIGINAL-URL:https://devimandir.com
X-WR-CALDESC:Events for Devi Mandir Canada
REFRESH-INTERVAL;VALUE=DURATION:PT1H
X-Robots-Tag:noindex
X-PUBLISHED-TTL:PT1H
BEGIN:VTIMEZONE
TZID:UTC
BEGIN:STANDARD
TZOFFSETFROM:+0000
TZOFFSETTO:+0000
TZNAME:UTC
DTSTART:20230101T000000
END:STANDARD
END:VTIMEZONE
BEGIN:VEVENT
DTSTART;TZID=UTC:20241013T090000
DTEND;TZID=UTC:20241013T120000
DTSTAMP:20260423T000357
CREATED:20240701T183336Z
LAST-MODIFIED:20240701T183355Z
UID:22697-1728810000-1728820800@devimandir.com
SUMMARY:Sunday Service-Puja-Prasad-Bhajans-Katha-Aarti
DESCRIPTION:
URL:https://devimandir.com/event/sunday-service-puja-prasad-bhajans-katha-aarti-17/
CATEGORIES:Puja-Every Sunday
END:VEVENT
BEGIN:VEVENT
DTSTART;TZID=UTC:20241013T090000
DTEND;TZID=UTC:20241013T120000
DTSTAMP:20260423T000357
CREATED:20241012T143801Z
LAST-MODIFIED:20241012T143801Z
UID:24916-1728810000-1728820800@devimandir.com
SUMMARY:Morning Puja Sponsored
DESCRIPTION:
URL:https://devimandir.com/event/morning-puja-sponsored-4/
CATEGORIES:Puja-Every Sunday
END:VEVENT
END:VCALENDAR