BEGIN:VCALENDAR
VERSION:2.0
PRODID:-//Devi Mandir Canada - ECPv6.15.16//NONSGML v1.0//EN
CALSCALE:GREGORIAN
METHOD:PUBLISH
X-WR-CALNAME:Devi Mandir Canada
X-ORIGINAL-URL:https://devimandir.com
X-WR-CALDESC:Events for Devi Mandir Canada
REFRESH-INTERVAL;VALUE=DURATION:PT1H
X-Robots-Tag:noindex
X-PUBLISHED-TTL:PT1H
BEGIN:VTIMEZONE
TZID:UTC
BEGIN:STANDARD
TZOFFSETFROM:+0000
TZOFFSETTO:+0000
TZNAME:UTC
DTSTART:20230101T000000
END:STANDARD
END:VTIMEZONE
BEGIN:VEVENT
DTSTART;TZID=UTC:20241006T080000
DTEND;TZID=UTC:20241006T123000
DTSTAMP:20260420T035837
CREATED:20240920T172336Z
LAST-MODIFIED:20240920T172336Z
UID:24834-1728201600-1728217800@devimandir.com
SUMMARY:Morning Puja sponsored
DESCRIPTION:
URL:https://devimandir.com/event/morning-puja-sponsored/
CATEGORIES:Puja-Every Sunday
END:VEVENT
BEGIN:VEVENT
DTSTART;TZID=UTC:20241006T090000
DTEND;TZID=UTC:20241006T120000
DTSTAMP:20260420T035837
CREATED:20240625T174441Z
LAST-MODIFIED:20240625T174503Z
UID:22550-1728205200-1728216000@devimandir.com
SUMMARY:Sunday Service-Puja-Prasad-Bhajans-Katha-Aarti
DESCRIPTION:
URL:https://devimandir.com/event/sunday-service-puja-prasad-bhajans-katha-aarti-16/
CATEGORIES:Puja-Every Sunday
END:VEVENT
BEGIN:VEVENT
DTSTART;TZID=UTC:20241013T090000
DTEND;TZID=UTC:20241013T120000
DTSTAMP:20260420T035837
CREATED:20240701T183336Z
LAST-MODIFIED:20240701T183355Z
UID:22697-1728810000-1728820800@devimandir.com
SUMMARY:Sunday Service-Puja-Prasad-Bhajans-Katha-Aarti
DESCRIPTION:
URL:https://devimandir.com/event/sunday-service-puja-prasad-bhajans-katha-aarti-17/
CATEGORIES:Puja-Every Sunday
END:VEVENT
BEGIN:VEVENT
DTSTART;TZID=UTC:20241013T090000
DTEND;TZID=UTC:20241013T120000
DTSTAMP:20260420T035837
CREATED:20241012T143801Z
LAST-MODIFIED:20241012T143801Z
UID:24916-1728810000-1728820800@devimandir.com
SUMMARY:Morning Puja Sponsored
DESCRIPTION:
URL:https://devimandir.com/event/morning-puja-sponsored-4/
CATEGORIES:Puja-Every Sunday
END:VEVENT
BEGIN:VEVENT
DTSTART;TZID=UTC:20241020T080000
DTEND;TZID=UTC:20241020T120000
DTSTAMP:20260420T035837
CREATED:20240926T171027Z
LAST-MODIFIED:20241021T143546Z
UID:24849-1729411200-1729425600@devimandir.com
SUMMARY:Morning Puja sponsored-POSTPONED
DESCRIPTION:
URL:https://devimandir.com/event/morning-puja-sponsored-2/
CATEGORIES:Puja-Every Sunday
END:VEVENT
BEGIN:VEVENT
DTSTART;TZID=UTC:20241020T090000
DTEND;TZID=UTC:20241020T120000
DTSTAMP:20260420T035837
CREATED:20240701T183540Z
LAST-MODIFIED:20240701T183540Z
UID:22699-1729414800-1729425600@devimandir.com
SUMMARY:Sunday Service-Puja-Prasad-Bhajans-Katha-Aarti
DESCRIPTION:
URL:https://devimandir.com/event/sunday-service-puja-prasad-bhajans-katha-aarti-18/
CATEGORIES:Puja-Every Sunday
END:VEVENT
BEGIN:VEVENT
DTSTART;TZID=UTC:20241027T090000
DTEND;TZID=UTC:20241027T120000
DTSTAMP:20260420T035837
CREATED:20240701T183945Z
LAST-MODIFIED:20240701T184004Z
UID:22703-1730019600-1730030400@devimandir.com
SUMMARY:Sunday Service-Puja-Prasad-Bhajans-Katha-Aarti
DESCRIPTION:
URL:https://devimandir.com/event/sunday-service-puja-prasad-bhajans-katha-aarti-19/
CATEGORIES:Puja-Every Sunday
END:VEVENT
END:VCALENDAR