BEGIN:VCALENDAR
VERSION:2.0
PRODID:-//Devi Mandir Canada - ECPv6.15.16//NONSGML v1.0//EN
CALSCALE:GREGORIAN
METHOD:PUBLISH
X-ORIGINAL-URL:https://devimandir.com
X-WR-CALDESC:Events for Devi Mandir Canada
REFRESH-INTERVAL;VALUE=DURATION:PT1H
X-Robots-Tag:noindex
X-PUBLISHED-TTL:PT1H
BEGIN:VTIMEZONE
TZID:UTC
BEGIN:STANDARD
TZOFFSETFROM:+0000
TZOFFSETTO:+0000
TZNAME:UTC
DTSTART:20230101T000000
END:STANDARD
END:VTIMEZONE
BEGIN:VEVENT
DTSTART;TZID=UTC:20240901T090000
DTEND;TZID=UTC:20240901T120000
DTSTAMP:20260420T171626
CREATED:20240619T163230Z
LAST-MODIFIED:20240619T163249Z
UID:22405-1725181200-1725192000@devimandir.com
SUMMARY:Sunday Service-Puja-Prasad-Bhajans-Katha-Aarti
DESCRIPTION:
URL:https://devimandir.com/event/sunday-service-puja-prasad-bhajans-katha-aarti-11/
CATEGORIES:Puja-Every Sunday
END:VEVENT
BEGIN:VEVENT
DTSTART;TZID=UTC:20240908T090000
DTEND;TZID=UTC:20240908T120000
DTSTAMP:20260420T171626
CREATED:20240625T172208Z
LAST-MODIFIED:20240625T173639Z
UID:22542-1725786000-1725796800@devimandir.com
SUMMARY:Sunday Service-Puja-Prasad-Bhajans-Katha-Aarti
DESCRIPTION:
URL:https://devimandir.com/event/sunday-service-puja-prasad-bhajans-katha-aarti-13/
CATEGORIES:Puja-Every Sunday
END:VEVENT
BEGIN:VEVENT
DTSTART;TZID=UTC:20240915T090000
DTEND;TZID=UTC:20240915T120000
DTSTAMP:20260420T171626
CREATED:20240625T172005Z
LAST-MODIFIED:20240625T173305Z
UID:22540-1726390800-1726401600@devimandir.com
SUMMARY:Sunday Service-Puja-Prasad-Bhajans-Katha-Aarti
DESCRIPTION:
URL:https://devimandir.com/event/sunday-service-puja-prasad-bhajans-katha-aarti-12/
CATEGORIES:Puja-Every Sunday
END:VEVENT
BEGIN:VEVENT
DTSTART;TZID=UTC:20240922T090000
DTEND;TZID=UTC:20240922T120000
DTSTAMP:20260420T171626
CREATED:20240625T172456Z
LAST-MODIFIED:20240625T173814Z
UID:22544-1726995600-1727006400@devimandir.com
SUMMARY:Sunday Service-Puja-Prasad-Bhajans-Katha-Aarti
DESCRIPTION:
URL:https://devimandir.com/event/sunday-service-puja-prasad-bhajans-katha-aarti-14/
CATEGORIES:Puja-Every Sunday
END:VEVENT
BEGIN:VEVENT
DTSTART;TZID=UTC:20240929T090000
DTEND;TZID=UTC:20240929T120000
DTSTAMP:20260420T171626
CREATED:20240625T172736Z
LAST-MODIFIED:20240625T172756Z
UID:22546-1727600400-1727611200@devimandir.com
SUMMARY:Sunday Service-Puja-Prasad-Bhajans-Katha-Aarti
DESCRIPTION:
URL:https://devimandir.com/event/sunday-service-puja-prasad-bhajans-katha-aarti-15/
CATEGORIES:Puja-Every Sunday
END:VEVENT
END:VCALENDAR