BEGIN:VCALENDAR
VERSION:2.0
PRODID:-//Devi Mandir Canada - ECPv6.15.16//NONSGML v1.0//EN
CALSCALE:GREGORIAN
METHOD:PUBLISH
X-WR-CALNAME:Devi Mandir Canada
X-ORIGINAL-URL:https://devimandir.com
X-WR-CALDESC:Events for Devi Mandir Canada
REFRESH-INTERVAL;VALUE=DURATION:PT1H
X-Robots-Tag:noindex
X-PUBLISHED-TTL:PT1H
BEGIN:VTIMEZONE
TZID:UTC
BEGIN:STANDARD
TZOFFSETFROM:+0000
TZOFFSETTO:+0000
TZNAME:UTC
DTSTART:20250101T000000
END:STANDARD
END:VTIMEZONE
BEGIN:VEVENT
DTSTART;TZID=UTC:20260306T180000
DTEND;TZID=UTC:20260306T200000
DTSTAMP:20260423T045423
CREATED:20251007T172810Z
LAST-MODIFIED:20251007T172810Z
UID:27015-1772820000-1772827200@devimandir.com
SUMMARY:Maa Durga Puja- Abhishek-Archana-Prasad-Kirtan-Aarti
DESCRIPTION:
URL:https://devimandir.com/event/maa-durga-puja-abhishek-archana-prasad-kirtan-aarti-86/
CATEGORIES:Puja-Every Friday
END:VEVENT
BEGIN:VEVENT
DTSTART;TZID=UTC:20260313T180000
DTEND;TZID=UTC:20260313T200000
DTSTAMP:20260423T045423
CREATED:20251007T183457Z
LAST-MODIFIED:20251007T183457Z
UID:27112-1773424800-1773432000@devimandir.com
SUMMARY:Maa Durga Puja- Abhishek-Archana-Prasad-Kirtan-Aarti
DESCRIPTION:
URL:https://devimandir.com/event/maa-durga-puja-abhishek-archana-prasad-kirtan-aarti-91/
CATEGORIES:Puja-Every Friday
END:VEVENT
BEGIN:VEVENT
DTSTART;TZID=UTC:20260320T180000
DTEND;TZID=UTC:20260320T200000
DTSTAMP:20260423T045423
CREATED:20251007T183814Z
LAST-MODIFIED:20251007T183814Z
UID:27116-1774029600-1774036800@devimandir.com
SUMMARY:Maa Durga Puja- Abhishek-Archana-Prasad-Kirtan-Aarti
DESCRIPTION:
URL:https://devimandir.com/event/maa-durga-puja-abhishek-archana-prasad-kirtan-aarti-93/
CATEGORIES:Puja-Every Friday
END:VEVENT
BEGIN:VEVENT
DTSTART;TZID=UTC:20260327T180000
DTEND;TZID=UTC:20260327T200000
DTSTAMP:20260423T045423
CREATED:20251007T183706Z
LAST-MODIFIED:20251007T183706Z
UID:27114-1774634400-1774641600@devimandir.com
SUMMARY:Maa Durga Puja- Abhishek-Archana-Prasad-Kirtan-Aarti
DESCRIPTION:
URL:https://devimandir.com/event/maa-durga-puja-abhishek-archana-prasad-kirtan-aarti-92/
CATEGORIES:Puja-Every Friday
END:VEVENT
END:VCALENDAR