BEGIN:VCALENDAR
VERSION:2.0
PRODID:-//Devi Mandir Canada - ECPv6.15.16//NONSGML v1.0//EN
CALSCALE:GREGORIAN
METHOD:PUBLISH
X-WR-CALNAME:Devi Mandir Canada
X-ORIGINAL-URL:https://devimandir.com
X-WR-CALDESC:Events for Devi Mandir Canada
REFRESH-INTERVAL;VALUE=DURATION:PT1H
X-Robots-Tag:noindex
X-PUBLISHED-TTL:PT1H
BEGIN:VTIMEZONE
TZID:UTC
BEGIN:STANDARD
TZOFFSETFROM:+0000
TZOFFSETTO:+0000
TZNAME:UTC
DTSTART:20240101T000000
END:STANDARD
END:VTIMEZONE
BEGIN:VEVENT
DTSTART;TZID=UTC:20251107T180000
DTEND;TZID=UTC:20251107T200000
DTSTAMP:20260425T144022
CREATED:20240821T173530Z
LAST-MODIFIED:20240821T173530Z
UID:24356-1762538400-1762545600@devimandir.com
SUMMARY:Maa Durga Puja- Abhishek-Archana-Prasad-Kirtan-Aarti
DESCRIPTION:
URL:https://devimandir.com/event/maa-durga-puja-abhishek-archana-prasad-kirtan-aarti-77/
CATEGORIES:Puja-Every Friday
END:VEVENT
BEGIN:VEVENT
DTSTART;TZID=UTC:20251114T180000
DTEND;TZID=UTC:20251114T200000
DTSTAMP:20260425T144022
CREATED:20240821T173230Z
LAST-MODIFIED:20240821T173230Z
UID:24352-1763143200-1763150400@devimandir.com
SUMMARY:Maa Durga Puja- Abhishek-Archana-Prasad-Kirtan-Aarti
DESCRIPTION:
URL:https://devimandir.com/event/maa-durga-puja-abhishek-archana-prasad-kirtan-aarti-75/
CATEGORIES:Puja-Every Friday
END:VEVENT
BEGIN:VEVENT
DTSTART;TZID=UTC:20251121T180000
DTEND;TZID=UTC:20251121T200000
DTSTAMP:20260425T144022
CREATED:20240821T173355Z
LAST-MODIFIED:20240821T173355Z
UID:24354-1763748000-1763755200@devimandir.com
SUMMARY:Maa Durga Puja- Abhishek-Archana-Prasad-Kirtan-Aarti
DESCRIPTION:
URL:https://devimandir.com/event/maa-durga-puja-abhishek-archana-prasad-kirtan-aarti-76/
CATEGORIES:Puja-Every Friday
END:VEVENT
BEGIN:VEVENT
DTSTART;TZID=UTC:20251128T180000
DTEND;TZID=UTC:20251128T200000
DTSTAMP:20260425T144022
CREATED:20240819T173457Z
LAST-MODIFIED:20240819T173457Z
UID:24162-1764352800-1764360000@devimandir.com
SUMMARY:Maa Durga Puja- Abhishek-Archana-Prasad-Kirtan-Aarti
DESCRIPTION:
URL:https://devimandir.com/event/maa-durga-puja-abhishek-archana-prasad-kirtan-aarti-67/
CATEGORIES:Puja-Every Friday
END:VEVENT
END:VCALENDAR