BEGIN:VCALENDAR
VERSION:2.0
PRODID:-//Devi Mandir Canada - ECPv6.15.16//NONSGML v1.0//EN
CALSCALE:GREGORIAN
METHOD:PUBLISH
X-ORIGINAL-URL:https://devimandir.com
X-WR-CALDESC:Events for Devi Mandir Canada
REFRESH-INTERVAL;VALUE=DURATION:PT1H
X-Robots-Tag:noindex
X-PUBLISHED-TTL:PT1H
BEGIN:VTIMEZONE
TZID:UTC
BEGIN:STANDARD
TZOFFSETFROM:+0000
TZOFFSETTO:+0000
TZNAME:UTC
DTSTART:20240101T000000
END:STANDARD
END:VTIMEZONE
BEGIN:VEVENT
DTSTART;TZID=UTC:20250704T180000
DTEND;TZID=UTC:20250704T200000
DTSTAMP:20260421T000335
CREATED:20240814T172433Z
LAST-MODIFIED:20240814T172433Z
UID:23810-1751652000-1751659200@devimandir.com
SUMMARY:Maa Durga Puja- Abhishek-Archana-Prasad-Kirtan-Aarti
DESCRIPTION:
URL:https://devimandir.com/event/maa-durga-puja-abhishek-archana-prasad-kirtan-aarti-51/
CATEGORIES:Puja-Every Friday
END:VEVENT
BEGIN:VEVENT
DTSTART;TZID=UTC:20250711T180000
DTEND;TZID=UTC:20250711T200000
DTSTAMP:20260421T000335
CREATED:20240815T161340Z
LAST-MODIFIED:20240815T161340Z
UID:23945-1752256800-1752264000@devimandir.com
SUMMARY:Maa Durga Puja- Abhishek-Archana-Prasad-Kirtan-Aarti
DESCRIPTION:
URL:https://devimandir.com/event/maa-durga-puja-abhishek-archana-prasad-kirtan-aarti-57/
CATEGORIES:Puja-Every Friday
END:VEVENT
BEGIN:VEVENT
DTSTART;TZID=UTC:20250718T180000
DTEND;TZID=UTC:20250718T200000
DTSTAMP:20260421T000335
CREATED:20240815T161502Z
LAST-MODIFIED:20240815T161502Z
UID:23947-1752861600-1752868800@devimandir.com
SUMMARY:Maa Durga Puja- Abhishek-Archana-Prasad-Kirtan-Aarti
DESCRIPTION:
URL:https://devimandir.com/event/maa-durga-puja-abhishek-archana-prasad-kirtan-aarti-58/
CATEGORIES:Puja-Every Friday
END:VEVENT
BEGIN:VEVENT
DTSTART;TZID=UTC:20250725T180000
DTEND;TZID=UTC:20250725T200000
DTSTAMP:20260421T000335
CREATED:20240815T161637Z
LAST-MODIFIED:20240815T161637Z
UID:23949-1753466400-1753473600@devimandir.com
SUMMARY:Maa Durga Puja- Abhishek-Archana-Prasad-Kirtan-Aarti
DESCRIPTION:
URL:https://devimandir.com/event/maa-durga-puja-abhishek-archana-prasad-kirtan-aarti-59/
CATEGORIES:Puja-Every Friday
END:VEVENT
END:VCALENDAR