BEGIN:VCALENDAR
VERSION:2.0
PRODID:-//Devi Mandir Canada - ECPv6.15.16//NONSGML v1.0//EN
CALSCALE:GREGORIAN
METHOD:PUBLISH
X-WR-CALNAME:Devi Mandir Canada
X-ORIGINAL-URL:https://devimandir.com
X-WR-CALDESC:Events for Devi Mandir Canada
REFRESH-INTERVAL;VALUE=DURATION:PT1H
X-Robots-Tag:noindex
X-PUBLISHED-TTL:PT1H
BEGIN:VTIMEZONE
TZID:UTC
BEGIN:STANDARD
TZOFFSETFROM:+0000
TZOFFSETTO:+0000
TZNAME:UTC
DTSTART:20240101T000000
END:STANDARD
END:VTIMEZONE
BEGIN:VEVENT
DTSTART;TZID=UTC:20250306T190000
DTEND;TZID=UTC:20250306T200000
DTSTAMP:20260419T140440
CREATED:20240807T152456Z
LAST-MODIFIED:20240807T152520Z
UID:23288-1741287600-1741291200@devimandir.com
SUMMARY:Ramayan Practice Session
DESCRIPTION:
URL:https://devimandir.com/event/ramayan-practice-session-29/
CATEGORIES:Group Chanting
END:VEVENT
BEGIN:VEVENT
DTSTART;TZID=UTC:20250313T190000
DTEND;TZID=UTC:20250313T200000
DTSTAMP:20260419T140440
CREATED:20240812T155857Z
LAST-MODIFIED:20240812T155938Z
UID:23546-1741892400-1741896000@devimandir.com
SUMMARY:Ramayan Practice Session
DESCRIPTION:
URL:https://devimandir.com/event/ramayan-practice-session-36/
CATEGORIES:Group Chanting
END:VEVENT
BEGIN:VEVENT
DTSTART;TZID=UTC:20250320T190000
DTEND;TZID=UTC:20250320T200000
DTSTAMP:20260419T140440
CREATED:20240812T160139Z
LAST-MODIFIED:20240812T160243Z
UID:23549-1742497200-1742500800@devimandir.com
SUMMARY:Ramayan Practice Session
DESCRIPTION:
URL:https://devimandir.com/event/ramayan-practice-session-37/
CATEGORIES:Group Chanting
END:VEVENT
BEGIN:VEVENT
DTSTART;TZID=UTC:20250327T190000
DTEND;TZID=UTC:20250327T200000
DTSTAMP:20260419T140440
CREATED:20240812T160441Z
LAST-MODIFIED:20240812T160525Z
UID:23551-1743102000-1743105600@devimandir.com
SUMMARY:Ramayan Practice Session
DESCRIPTION:
URL:https://devimandir.com/event/ramayan-practice-session-38/
CATEGORIES:Group Chanting
END:VEVENT
END:VCALENDAR