BEGIN:VCALENDAR
VERSION:2.0
PRODID:-//Devi Mandir Canada - ECPv6.15.16//NONSGML v1.0//EN
CALSCALE:GREGORIAN
METHOD:PUBLISH
X-ORIGINAL-URL:https://devimandir.com
X-WR-CALDESC:Events for Devi Mandir Canada
REFRESH-INTERVAL;VALUE=DURATION:PT1H
X-Robots-Tag:noindex
X-PUBLISHED-TTL:PT1H
BEGIN:VTIMEZONE
TZID:UTC
BEGIN:STANDARD
TZOFFSETFROM:+0000
TZOFFSETTO:+0000
TZNAME:UTC
DTSTART:20240101T000000
END:STANDARD
END:VTIMEZONE
BEGIN:VEVENT
DTSTART;TZID=UTC:20250202T130000
DTEND;TZID=UTC:20250202T140000
DTSTAMP:20260419T224247
CREATED:20250116T173636Z
LAST-MODIFIED:20250116T173636Z
UID:25534-1738501200-1738504800@devimandir.com
SUMMARY:Chautaal Group
DESCRIPTION:
URL:https://devimandir.com/event/chautaal-group-3/
CATEGORIES:Group Chanting
END:VEVENT
BEGIN:VEVENT
DTSTART;TZID=UTC:20250206T190000
DTEND;TZID=UTC:20250206T200000
DTSTAMP:20260419T224247
CREATED:20240807T182032Z
LAST-MODIFIED:20240807T182052Z
UID:23365-1738868400-1738872000@devimandir.com
SUMMARY:Ramayan Practice Session
DESCRIPTION:
URL:https://devimandir.com/event/ramayan-practice-session-32/
CATEGORIES:Group Chanting
END:VEVENT
BEGIN:VEVENT
DTSTART;TZID=UTC:20250209T130000
DTEND;TZID=UTC:20250209T140000
DTSTAMP:20260419T224247
CREATED:20250116T173801Z
LAST-MODIFIED:20250116T173915Z
UID:25536-1739106000-1739109600@devimandir.com
SUMMARY:Chautaal Group
DESCRIPTION:
URL:https://devimandir.com/event/chautaal-group-4/
CATEGORIES:Group Chanting
END:VEVENT
BEGIN:VEVENT
DTSTART;TZID=UTC:20250213T190000
DTEND;TZID=UTC:20250213T200000
DTSTAMP:20260419T224247
CREATED:20240807T182253Z
LAST-MODIFIED:20240807T182253Z
UID:23367-1739473200-1739476800@devimandir.com
SUMMARY:Ramayan Practice Session
DESCRIPTION:
URL:https://devimandir.com/event/ramayan-practice-session-33/
CATEGORIES:Group Chanting
END:VEVENT
BEGIN:VEVENT
DTSTART;TZID=UTC:20250216T130000
DTEND;TZID=UTC:20250216T140000
DTSTAMP:20260419T224247
CREATED:20250116T174847Z
LAST-MODIFIED:20250116T174847Z
UID:25539-1739710800-1739714400@devimandir.com
SUMMARY:Chautaal Group
DESCRIPTION:
URL:https://devimandir.com/event/chautaal-group-5/
CATEGORIES:Group Chanting
END:VEVENT
BEGIN:VEVENT
DTSTART;TZID=UTC:20250220T190000
DTEND;TZID=UTC:20250220T200000
DTSTAMP:20260419T224247
CREATED:20240807T182345Z
LAST-MODIFIED:20240807T182345Z
UID:23369-1740078000-1740081600@devimandir.com
SUMMARY:Ramayan Practice Session
DESCRIPTION:
URL:https://devimandir.com/event/ramayan-practice-session-34/
CATEGORIES:Group Chanting
END:VEVENT
BEGIN:VEVENT
DTSTART;TZID=UTC:20250223T130000
DTEND;TZID=UTC:20250223T140000
DTSTAMP:20260419T224247
CREATED:20250116T181734Z
LAST-MODIFIED:20250116T181734Z
UID:25542-1740315600-1740319200@devimandir.com
SUMMARY:Chautaal Group
DESCRIPTION:
URL:https://devimandir.com/event/chautaal-group-6/
CATEGORIES:Group Chanting
END:VEVENT
BEGIN:VEVENT
DTSTART;TZID=UTC:20250227T190000
DTEND;TZID=UTC:20250227T200000
DTSTAMP:20260419T224247
CREATED:20240808T162906Z
LAST-MODIFIED:20240808T162952Z
UID:23415-1740682800-1740686400@devimandir.com
SUMMARY:Ramayan Practice Session
DESCRIPTION:
URL:https://devimandir.com/event/ramayan-practice-session-35/
CATEGORIES:Group Chanting
END:VEVENT
END:VCALENDAR