BEGIN:VCALENDAR
VERSION:2.0
PRODID:-//Devi Mandir Canada - ECPv6.15.16//NONSGML v1.0//EN
CALSCALE:GREGORIAN
METHOD:PUBLISH
X-WR-CALNAME:Devi Mandir Canada
X-ORIGINAL-URL:https://devimandir.com
X-WR-CALDESC:Events for Devi Mandir Canada
REFRESH-INTERVAL;VALUE=DURATION:PT1H
X-Robots-Tag:noindex
X-PUBLISHED-TTL:PT1H
BEGIN:VTIMEZONE
TZID:UTC
BEGIN:STANDARD
TZOFFSETFROM:+0000
TZOFFSETTO:+0000
TZNAME:UTC
DTSTART:20230101T000000
END:STANDARD
END:VTIMEZONE
BEGIN:VEVENT
DTSTART;TZID=UTC:20240801T190000
DTEND;TZID=UTC:20240801T200000
DTSTAMP:20260420T171250
CREATED:20240629T161855Z
LAST-MODIFIED:20240629T161938Z
UID:22581-1722538800-1722542400@devimandir.com
SUMMARY:Ramayan Practice Session
DESCRIPTION:
URL:https://devimandir.com/event/ramayan-practice-session/
CATEGORIES:Group Chanting
END:VEVENT
BEGIN:VEVENT
DTSTART;TZID=UTC:20240808T190000
DTEND;TZID=UTC:20240808T200000
DTSTAMP:20260420T171250
CREATED:20240629T171057Z
LAST-MODIFIED:20240629T171117Z
UID:22600-1723143600-1723147200@devimandir.com
SUMMARY:Ramayan Practice Session
DESCRIPTION:
URL:https://devimandir.com/event/ramayan-practice-session-7/
CATEGORIES:Group Chanting
END:VEVENT
BEGIN:VEVENT
DTSTART;TZID=UTC:20240815T190000
DTEND;TZID=UTC:20240815T200000
DTSTAMP:20260420T171250
CREATED:20240629T170939Z
LAST-MODIFIED:20240629T170959Z
UID:22598-1723748400-1723752000@devimandir.com
SUMMARY:Ramayan Practice Session
DESCRIPTION:
URL:https://devimandir.com/event/ramayan-practice-session-6/
CATEGORIES:Group Chanting
END:VEVENT
BEGIN:VEVENT
DTSTART;TZID=UTC:20240819T190000
DTEND;TZID=UTC:20240819T200000
DTSTAMP:20260420T171250
CREATED:20240819T174343Z
LAST-MODIFIED:20240819T174343Z
UID:24169-1724094000-1724097600@devimandir.com
SUMMARY:Ramayan Practice Session
DESCRIPTION:
URL:https://devimandir.com/event/ramayan-practice-session-64/
CATEGORIES:Group Chanting
END:VEVENT
BEGIN:VEVENT
DTSTART;TZID=UTC:20240822T190000
DTEND;TZID=UTC:20240822T200000
DTSTAMP:20260420T171250
CREATED:20240629T171236Z
LAST-MODIFIED:20240629T171256Z
UID:22602-1724353200-1724356800@devimandir.com
SUMMARY:Ramayan Practice Session
DESCRIPTION:
URL:https://devimandir.com/event/ramayan-practice-session-8/
CATEGORIES:Group Chanting
END:VEVENT
BEGIN:VEVENT
DTSTART;TZID=UTC:20240829T190000
DTEND;TZID=UTC:20240829T200000
DTSTAMP:20260420T171250
CREATED:20240629T171408Z
LAST-MODIFIED:20240629T171430Z
UID:22604-1724958000-1724961600@devimandir.com
SUMMARY:Ramayan Practice Session
DESCRIPTION:
URL:https://devimandir.com/event/ramayan-practice-session-9/
CATEGORIES:Group Chanting
END:VEVENT
BEGIN:VEVENT
DTSTART;TZID=UTC:20251225T190000
DTEND;TZID=UTC:20251225T200000
DTSTAMP:20260420T171250
CREATED:20240830T161138Z
LAST-MODIFIED:20240830T161224Z
UID:24610-1766689200-1766692800@devimandir.com
SUMMARY:Ramayan Practice Session
DESCRIPTION:
URL:https://devimandir.com/event/ramayan-practice-session-77/
CATEGORIES:Group Chanting
END:VEVENT
END:VCALENDAR