BEGIN:VCALENDAR
VERSION:2.0
PRODID:-//Devi Mandir Canada - ECPv6.15.16//NONSGML v1.0//EN
CALSCALE:GREGORIAN
METHOD:PUBLISH
X-WR-CALNAME:Devi Mandir Canada
X-ORIGINAL-URL:https://devimandir.com
X-WR-CALDESC:Events for Devi Mandir Canada
REFRESH-INTERVAL;VALUE=DURATION:PT1H
X-Robots-Tag:noindex
X-PUBLISHED-TTL:PT1H
BEGIN:VTIMEZONE
TZID:UTC
BEGIN:STANDARD
TZOFFSETFROM:+0000
TZOFFSETTO:+0000
TZNAME:UTC
DTSTART:20230101T000000
END:STANDARD
END:VTIMEZONE
BEGIN:VEVENT
DTSTART;TZID=UTC:20240711T190000
DTEND;TZID=UTC:20240711T200000
DTSTAMP:20260420T202516
CREATED:20240629T163923Z
LAST-MODIFIED:20240629T163949Z
UID:22590-1720724400-1720728000@devimandir.com
SUMMARY:Ramayan Practice Session
DESCRIPTION:
URL:https://devimandir.com/event/ramayan-practice-session-3/
CATEGORIES:Group Chanting
END:VEVENT
BEGIN:VEVENT
DTSTART;TZID=UTC:20240718T190000
DTEND;TZID=UTC:20240718T200000
DTSTAMP:20260420T202516
CREATED:20240629T164059Z
LAST-MODIFIED:20240629T164119Z
UID:22592-1721329200-1721332800@devimandir.com
SUMMARY:Ramayan Practice Session
DESCRIPTION:
URL:https://devimandir.com/event/ramayan-practice-session-4/
CATEGORIES:Group Chanting
END:VEVENT
BEGIN:VEVENT
DTSTART;TZID=UTC:20240725T190000
DTEND;TZID=UTC:20240725T200000
DTSTAMP:20260420T202516
CREATED:20240629T164243Z
LAST-MODIFIED:20240629T164327Z
UID:22594-1721934000-1721937600@devimandir.com
SUMMARY:Ramayan Practice Session
DESCRIPTION:
URL:https://devimandir.com/event/ramayan-practice-session-5/
CATEGORIES:Group Chanting
END:VEVENT
END:VCALENDAR