BEGIN:VCALENDAR
VERSION:2.0
PRODID:-//Devi Mandir Canada - ECPv6.15.16//NONSGML v1.0//EN
CALSCALE:GREGORIAN
METHOD:PUBLISH
X-WR-CALNAME:Devi Mandir Canada
X-ORIGINAL-URL:https://devimandir.com
X-WR-CALDESC:Events for Devi Mandir Canada
REFRESH-INTERVAL;VALUE=DURATION:PT1H
X-Robots-Tag:noindex
X-PUBLISHED-TTL:PT1H
BEGIN:VTIMEZONE
TZID:UTC
BEGIN:STANDARD
TZOFFSETFROM:+0000
TZOFFSETTO:+0000
TZNAME:UTC
DTSTART:20250101T000000
END:STANDARD
END:VTIMEZONE
BEGIN:VEVENT
DTSTART;TZID=UTC:20260331T213600
DTEND;TZID=UTC:20260401T221100
DTSTAMP:20260423T162834
CREATED:20251026T161506Z
LAST-MODIFIED:20251026T161506Z
UID:27524-1774992960-1775081460@devimandir.com
SUMMARY:Chaitra Purnima
DESCRIPTION:
URL:https://devimandir.com/event/chaitra-purnima-2/
CATEGORIES:Fast & Festivals
END:VEVENT
END:VCALENDAR