BEGIN:VCALENDAR
VERSION:2.0
PRODID:-//Devi Mandir Canada - ECPv6.15.16//NONSGML v1.0//EN
CALSCALE:GREGORIAN
METHOD:PUBLISH
X-WR-CALNAME:Devi Mandir Canada
X-ORIGINAL-URL:https://devimandir.com
X-WR-CALDESC:Events for Devi Mandir Canada
REFRESH-INTERVAL;VALUE=DURATION:PT1H
X-Robots-Tag:noindex
X-PUBLISHED-TTL:PT1H
BEGIN:VTIMEZONE
TZID:UTC
BEGIN:STANDARD
TZOFFSETFROM:+0000
TZOFFSETTO:+0000
TZNAME:UTC
DTSTART:20250101T000000
END:STANDARD
END:VTIMEZONE
BEGIN:VEVENT
DTSTART;TZID=UTC:20260327T231500
DTEND;TZID=UTC:20260328T221600
DTSTAMP:20260424T004145
CREATED:20251018T150010Z
LAST-MODIFIED:20251018T150010Z
UID:27287-1774653300-1774736160@devimandir.com
SUMMARY:Kamada Ekadashi
DESCRIPTION:
URL:https://devimandir.com/event/kamada-ekadashi-2/
CATEGORIES:Fast & Festivals
END:VEVENT
END:VCALENDAR