BEGIN:VCALENDAR
VERSION:2.0
PRODID:-//Devi Mandir Canada - ECPv6.15.16//NONSGML v1.0//EN
CALSCALE:GREGORIAN
METHOD:PUBLISH
X-ORIGINAL-URL:https://devimandir.com
X-WR-CALDESC:Events for Devi Mandir Canada
REFRESH-INTERVAL;VALUE=DURATION:PT1H
X-Robots-Tag:noindex
X-PUBLISHED-TTL:PT1H
BEGIN:VTIMEZONE
TZID:UTC
BEGIN:STANDARD
TZOFFSETFROM:+0000
TZOFFSETTO:+0000
TZNAME:UTC
DTSTART:20230101T000000
END:STANDARD
END:VTIMEZONE
BEGIN:VEVENT
DTSTART;TZID=UTC:20260315T090000
DTEND;TZID=UTC:20260315T140000
DTSTAMP:20260421T191509
CREATED:20250916T145509Z
LAST-MODIFIED:20250916T145509Z
UID:26648-1773565200-1773583200@devimandir.com
SUMMARY:Devi Mandir International Women's Conference
DESCRIPTION:
URL:https://devimandir.com/event/devi-mandir-international-womens-conference/
CATEGORIES:Celebration & regards
END:VEVENT
BEGIN:VEVENT
DTSTART;TZID=UTC:20251115T090000
DTEND;TZID=UTC:20251115T140000
DTSTAMP:20260421T191509
CREATED:20250916T145332Z
LAST-MODIFIED:20250916T145332Z
UID:26646-1763197200-1763215200@devimandir.com
SUMMARY:Hindu Heritage Program
DESCRIPTION:
URL:https://devimandir.com/event/hindu-heritage-program/
CATEGORIES:Celebration & regards
END:VEVENT
BEGIN:VEVENT
DTSTART;TZID=UTC:20250929T080000
DTEND;TZID=UTC:20250929T170000
DTSTAMP:20260421T191509
CREATED:20240907T154448Z
LAST-MODIFIED:20240907T154645Z
UID:24698-1759132800-1759165200@devimandir.com
SUMMARY:DURGA ASHTAMI/ KANYA PUJA
DESCRIPTION:
URL:https://devimandir.com/event/durga-ashtami-kanya-puja/
CATEGORIES:Celebration & regards
END:VEVENT
BEGIN:VEVENT
DTSTART;TZID=UTC:20241225T115900
DTEND;TZID=UTC:20241226T141300
DTSTAMP:20260421T191509
CREATED:20240814T151645Z
LAST-MODIFIED:20240814T151645Z
UID:23738-1735127940-1735222380@devimandir.com
SUMMARY:Saphala Ekadashi
DESCRIPTION:Begins – 11:59 AM\, Dec 25\nEnds – 02:13 PM\, Dec 26
URL:https://devimandir.com/event/saphala-ekadashi/
CATEGORIES:Celebration & regards
END:VEVENT
BEGIN:VEVENT
DTSTART;TZID=UTC:20241212T100000
DTEND;TZID=UTC:20241212T120000
DTSTAMP:20260421T191509
CREATED:20240705T165639Z
LAST-MODIFIED:20240705T173550Z
UID:22952-1733997600-1734004800@devimandir.com
SUMMARY:Wedding Anniversary
DESCRIPTION:
URL:https://devimandir.com/event/wedding-anniversary/
CATEGORIES:Celebration & regards
END:VEVENT
BEGIN:VEVENT
DTSTART;TZID=UTC:20241102T080000
DTEND;TZID=UTC:20241102T200000
DTSTAMP:20260421T191509
CREATED:20240701T162945Z
LAST-MODIFIED:20240916T161536Z
UID:22670-1730534400-1730577600@devimandir.com
SUMMARY:DIWALI PROGRAM
DESCRIPTION:
URL:https://devimandir.com/event/diwali-program/
CATEGORIES:Celebration & regards
END:VEVENT
BEGIN:VEVENT
DTSTART;TZID=UTC:20240927T090000
DTEND;TZID=UTC:20240927T170000
DTSTAMP:20260421T191509
CREATED:20240702T162336Z
LAST-MODIFIED:20240702T162355Z
UID:22743-1727427600-1727456400@devimandir.com
SUMMARY:Wedding
DESCRIPTION:
URL:https://devimandir.com/event/wedding-10/
CATEGORIES:Celebration & regards
END:VEVENT
BEGIN:VEVENT
DTSTART;TZID=UTC:20240915T150000
DTEND;TZID=UTC:20240915T200000
DTSTAMP:20260421T191509
CREATED:20240624T173320Z
LAST-MODIFIED:20240624T173351Z
UID:22498-1726412400-1726430400@devimandir.com
SUMMARY:Satsang
DESCRIPTION:
URL:https://devimandir.com/event/satsang-3/
CATEGORIES:Celebration & regards
END:VEVENT
BEGIN:VEVENT
DTSTART;TZID=UTC:20240831T080000
DTEND;TZID=UTC:20240831T200000
DTSTAMP:20260421T191509
CREATED:20240624T171942Z
LAST-MODIFIED:20240624T172005Z
UID:22488-1725091200-1725134400@devimandir.com
SUMMARY:Wedding
DESCRIPTION:
URL:https://devimandir.com/event/wedding-6/
CATEGORIES:Celebration & regards
END:VEVENT
BEGIN:VEVENT
DTSTART;TZID=UTC:20240830T080000
DTEND;TZID=UTC:20240830T200000
DTSTAMP:20260421T191509
CREATED:20240624T171145Z
LAST-MODIFIED:20240624T171203Z
UID:22482-1725004800-1725048000@devimandir.com
SUMMARY:Wedding
DESCRIPTION:
URL:https://devimandir.com/event/wedding-5/
CATEGORIES:Celebration & regards
END:VEVENT
BEGIN:VEVENT
DTSTART;TZID=UTC:20240810T080000
DTEND;TZID=UTC:20240810T200000
DTSTAMP:20260421T191509
CREATED:20240624T165008Z
LAST-MODIFIED:20240624T165032Z
UID:22473-1723276800-1723320000@devimandir.com
SUMMARY:Wedding
DESCRIPTION:
URL:https://devimandir.com/event/wedding-4/
CATEGORIES:Celebration & regards
END:VEVENT
BEGIN:VEVENT
DTSTART;TZID=UTC:20240726T120000
DTEND;TZID=UTC:20240726T200000
DTSTAMP:20260421T191509
CREATED:20240624T172150Z
LAST-MODIFIED:20240624T172210Z
UID:22491-1721995200-1722024000@devimandir.com
SUMMARY:Wedding
DESCRIPTION:
URL:https://devimandir.com/event/wedding-7/
CATEGORIES:Celebration & regards
END:VEVENT
BEGIN:VEVENT
DTSTART;TZID=UTC:20240721T160000
DTEND;TZID=UTC:20240721T190000
DTSTAMP:20260421T191509
CREATED:20240617T154920Z
LAST-MODIFIED:20240617T154939Z
UID:22231-1721577600-1721588400@devimandir.com
SUMMARY:Satsang
DESCRIPTION:
URL:https://devimandir.com/event/satsang-2/
CATEGORIES:Celebration & regards
END:VEVENT
BEGIN:VEVENT
DTSTART;TZID=UTC:20240712T130000
DTEND;TZID=UTC:20240712T200000
DTSTAMP:20260421T191509
CREATED:20240617T154607Z
LAST-MODIFIED:20240711T150722Z
UID:22229-1720789200-1720814400@devimandir.com
SUMMARY:Wedding
DESCRIPTION:
URL:https://devimandir.com/event/wedding-3/
CATEGORIES:Celebration & regards
END:VEVENT
BEGIN:VEVENT
DTSTART;TZID=UTC:20240704T080000
DTEND;TZID=UTC:20240704T200000
DTSTAMP:20260421T191509
CREATED:20240615T173632Z
LAST-MODIFIED:20240615T173641Z
UID:22222-1720080000-1720123200@devimandir.com
SUMMARY:Wedding
DESCRIPTION:
URL:https://devimandir.com/event/wedding-2/
CATEGORIES:Celebration & regards
END:VEVENT
BEGIN:VEVENT
DTSTART;TZID=UTC:20240629T080000
DTEND;TZID=UTC:20240629T200000
DTSTAMP:20260421T191509
CREATED:20240615T172537Z
LAST-MODIFIED:20240617T160201Z
UID:22219-1719648000-1719691200@devimandir.com
SUMMARY:Wedding
DESCRIPTION:
URL:https://devimandir.com/event/wedding/
CATEGORIES:Celebration & regards
END:VEVENT
BEGIN:VEVENT
DTSTART;TZID=UTC:20240623T160000
DTEND;TZID=UTC:20240623T190000
DTSTAMP:20260421T191509
CREATED:20240617T153800Z
LAST-MODIFIED:20240617T160227Z
UID:22225-1719158400-1719169200@devimandir.com
SUMMARY:Satsang
DESCRIPTION:
URL:https://devimandir.com/event/satsang/
CATEGORIES:Celebration & regards
END:VEVENT
BEGIN:VEVENT
DTSTART;TZID=UTC:20240622T120000
DTEND;TZID=UTC:20240622T200000
DTSTAMP:20260421T191509
CREATED:20240617T154140Z
LAST-MODIFIED:20240617T154207Z
UID:22227-1719057600-1719086400@devimandir.com
SUMMARY:Private event
DESCRIPTION:
URL:https://devimandir.com/event/private-event/
CATEGORIES:Celebration & regards
END:VEVENT
BEGIN:VEVENT
DTSTART;TZID=UTC:20240616T080000
DTEND;TZID=UTC:20240616T200000
DTSTAMP:20260421T191509
CREATED:20240611T184135Z
LAST-MODIFIED:20240613T164506Z
UID:22112-1718524800-1718568000@devimandir.com
SUMMARY:Father's Day
DESCRIPTION:
URL:https://devimandir.com/event/fathers-day/
CATEGORIES:Celebration & regards
END:VEVENT
END:VCALENDAR