BEGIN:VCALENDAR
VERSION:2.0
PRODID:-//Devi Mandir Canada - ECPv6.15.16//NONSGML v1.0//EN
CALSCALE:GREGORIAN
METHOD:PUBLISH
X-WR-CALNAME:Devi Mandir Canada
X-ORIGINAL-URL:https://devimandir.com
X-WR-CALDESC:Events for Devi Mandir Canada
REFRESH-INTERVAL;VALUE=DURATION:PT1H
X-Robots-Tag:noindex
X-PUBLISHED-TTL:PT1H
BEGIN:VTIMEZONE
TZID:UTC
BEGIN:STANDARD
TZOFFSETFROM:+0000
TZOFFSETTO:+0000
TZNAME:UTC
DTSTART:20230101T000000
END:STANDARD
END:VTIMEZONE
BEGIN:VEVENT
DTSTART;TZID=UTC:20240708T180000
DTEND;TZID=UTC:20240708T200000
DTSTAMP:20260420T053637
CREATED:20240618T181014Z
LAST-MODIFIED:20240618T181035Z
UID:22317-1720461600-1720468800@devimandir.com
SUMMARY:Kathak dance class
DESCRIPTION:
URL:https://devimandir.com/event/kathak-dance-class-2/
CATEGORIES:Activity Classes
END:VEVENT
BEGIN:VEVENT
DTSTART;TZID=UTC:20240711T180000
DTEND;TZID=UTC:20240711T200000
DTSTAMP:20260420T053637
CREATED:20240618T182050Z
LAST-MODIFIED:20240618T182109Z
UID:22332-1720720800-1720728000@devimandir.com
SUMMARY:Bharatanatyam dance class
DESCRIPTION:
URL:https://devimandir.com/event/bharatanatyam-dance-class-4/
CATEGORIES:Activity Classes
END:VEVENT
BEGIN:VEVENT
DTSTART;TZID=UTC:20240712T180000
DTEND;TZID=UTC:20240712T210000
DTSTAMP:20260420T053637
CREATED:20240618T184957Z
LAST-MODIFIED:20240618T191318Z
UID:22360-1720807200-1720818000@devimandir.com
SUMMARY:Bollywood dance class by Selena
DESCRIPTION:
URL:https://devimandir.com/event/bollywood-dance-class-by-selena-4/
CATEGORIES:Activity Classes
END:VEVENT
BEGIN:VEVENT
DTSTART;TZID=UTC:20240714T130000
DTEND;TZID=UTC:20240714T160000
DTSTAMP:20260420T053637
CREATED:20240615T164216Z
LAST-MODIFIED:20240711T181921Z
UID:22207-1720962000-1720972800@devimandir.com
SUMMARY:No Dance class
DESCRIPTION:Bollywood dance by Shobha \n(Every Sunday : 1pm -4pm )
URL:https://devimandir.com/event/bollywood-dance-5/
CATEGORIES:Activity Classes
END:VEVENT
BEGIN:VEVENT
DTSTART;TZID=UTC:20240715T180000
DTEND;TZID=UTC:20240715T200000
DTSTAMP:20260420T053637
CREATED:20240618T181127Z
LAST-MODIFIED:20240618T181147Z
UID:22319-1721066400-1721073600@devimandir.com
SUMMARY:Kathak dance class
DESCRIPTION:
URL:https://devimandir.com/event/kathak-dance-class-3/
CATEGORIES:Activity Classes
END:VEVENT
BEGIN:VEVENT
DTSTART;TZID=UTC:20240717T180000
DTEND;TZID=UTC:20240717T200000
DTSTAMP:20260420T053637
CREATED:20240717T180654Z
LAST-MODIFIED:20240717T180721Z
UID:23112-1721239200-1721246400@devimandir.com
SUMMARY:Bollywood Dance class by Shobha
DESCRIPTION:
URL:https://devimandir.com/event/bollywood-dance-class-by-shobha-20/
CATEGORIES:Activity Classes
END:VEVENT
BEGIN:VEVENT
DTSTART;TZID=UTC:20240718T180000
DTEND;TZID=UTC:20240718T200000
DTSTAMP:20260420T053637
CREATED:20240618T182240Z
LAST-MODIFIED:20240618T182300Z
UID:22334-1721325600-1721332800@devimandir.com
SUMMARY:Bharatanatyam dance class
DESCRIPTION:
URL:https://devimandir.com/event/bharatanatyam-dance-class-5/
CATEGORIES:Activity Classes
END:VEVENT
BEGIN:VEVENT
DTSTART;TZID=UTC:20240719T180000
DTEND;TZID=UTC:20240719T210000
DTSTAMP:20260420T053637
CREATED:20240618T185135Z
LAST-MODIFIED:20240618T190234Z
UID:22363-1721412000-1721422800@devimandir.com
SUMMARY:Bollywood dance class by Selena
DESCRIPTION:
URL:https://devimandir.com/event/bollywood-dance-class-by-selena-5/
CATEGORIES:Activity Classes
END:VEVENT
BEGIN:VEVENT
DTSTART;TZID=UTC:20240722T180000
DTEND;TZID=UTC:20240722T200000
DTSTAMP:20260420T053637
CREATED:20240618T181307Z
LAST-MODIFIED:20240618T181327Z
UID:22321-1721671200-1721678400@devimandir.com
SUMMARY:Kathak dance class
DESCRIPTION:
URL:https://devimandir.com/event/kathak-dance-class-4/
CATEGORIES:Activity Classes
END:VEVENT
BEGIN:VEVENT
DTSTART;TZID=UTC:20240725T180000
DTEND;TZID=UTC:20240725T200000
DTSTAMP:20260420T053637
CREATED:20240618T182355Z
LAST-MODIFIED:20240618T182414Z
UID:22336-1721930400-1721937600@devimandir.com
SUMMARY:Bharatanatyam dance class
DESCRIPTION:
URL:https://devimandir.com/event/bharatanatyam-dance-class-6/
CATEGORIES:Activity Classes
END:VEVENT
BEGIN:VEVENT
DTSTART;TZID=UTC:20240726T180000
DTEND;TZID=UTC:20240726T210000
DTSTAMP:20260420T053637
CREATED:20240618T185341Z
LAST-MODIFIED:20240618T190000Z
UID:22365-1722016800-1722027600@devimandir.com
SUMMARY:Bollywood dance class by Selena
DESCRIPTION:
URL:https://devimandir.com/event/bollywood-dance-class-by-selena-6/
CATEGORIES:Activity Classes
END:VEVENT
BEGIN:VEVENT
DTSTART;TZID=UTC:20240728T130000
DTEND;TZID=UTC:20240728T160000
DTSTAMP:20260420T053637
CREATED:20240615T164608Z
LAST-MODIFIED:20240711T181842Z
UID:22213-1722171600-1722182400@devimandir.com
SUMMARY:No Dance class
DESCRIPTION:Bollywood dance by Shobha \n(Every Sunday : 1pm -4pm )
URL:https://devimandir.com/event/bollywood-dance-7/
CATEGORIES:Activity Classes
END:VEVENT
BEGIN:VEVENT
DTSTART;TZID=UTC:20240729T180000
DTEND;TZID=UTC:20240729T200000
DTSTAMP:20260420T053637
CREATED:20240618T181432Z
LAST-MODIFIED:20240618T181432Z
UID:22323-1722276000-1722283200@devimandir.com
SUMMARY:Kathak dance class
DESCRIPTION:
URL:https://devimandir.com/event/kathak-dance-class-5/
CATEGORIES:Activity Classes
END:VEVENT
BEGIN:VEVENT
DTSTART;TZID=UTC:20240801T180000
DTEND;TZID=UTC:20240801T200000
DTSTAMP:20260420T053637
CREATED:20240618T182520Z
LAST-MODIFIED:20240618T182543Z
UID:22338-1722535200-1722542400@devimandir.com
SUMMARY:Bharatanatyam dance class
DESCRIPTION:
URL:https://devimandir.com/event/bharatanatyam-dance-class-7/
CATEGORIES:Activity Classes
END:VEVENT
BEGIN:VEVENT
DTSTART;TZID=UTC:20240802T180000
DTEND;TZID=UTC:20240802T210000
DTSTAMP:20260420T053637
CREATED:20240618T185536Z
LAST-MODIFIED:20240618T190901Z
UID:22367-1722621600-1722632400@devimandir.com
SUMMARY:Bollywood dance class by Selena
DESCRIPTION:
URL:https://devimandir.com/event/bollywood-dance-class-by-selena-7/
CATEGORIES:Activity Classes
END:VEVENT
BEGIN:VEVENT
DTSTART;TZID=UTC:20240804T130000
DTEND;TZID=UTC:20240804T160000
DTSTAMP:20260420T053637
CREATED:20240615T164739Z
LAST-MODIFIED:20240618T183245Z
UID:22216-1722776400-1722787200@devimandir.com
SUMMARY:Bollywood Dance class by Shobha
DESCRIPTION:Bollywood dance by Shobha \n(Every Sunday : 1pm -4pm )
URL:https://devimandir.com/event/bollywood-dance-8/
CATEGORIES:Activity Classes
END:VEVENT
BEGIN:VEVENT
DTSTART;TZID=UTC:20240805T180000
DTEND;TZID=UTC:20240805T200000
DTSTAMP:20260420T053637
CREATED:20240619T175203Z
LAST-MODIFIED:20240619T175222Z
UID:22433-1722880800-1722888000@devimandir.com
SUMMARY:Kathak dance class
DESCRIPTION:
URL:https://devimandir.com/event/kathak-dance-class-7/
CATEGORIES:Activity Classes
END:VEVENT
BEGIN:VEVENT
DTSTART;TZID=UTC:20240808T180000
DTEND;TZID=UTC:20240808T200000
DTSTAMP:20260420T053637
CREATED:20240619T181331Z
LAST-MODIFIED:20240619T181351Z
UID:22444-1723140000-1723147200@devimandir.com
SUMMARY:Bharatanatyam dance class
DESCRIPTION:
URL:https://devimandir.com/event/bharatanatyam-dance-class-8/
CATEGORIES:Activity Classes
END:VEVENT
BEGIN:VEVENT
DTSTART;TZID=UTC:20240809T180000
DTEND;TZID=UTC:20240809T210000
DTSTAMP:20260420T053637
CREATED:20240618T191914Z
LAST-MODIFIED:20240618T192112Z
UID:22369-1723226400-1723237200@devimandir.com
SUMMARY:Bollywood dance class by Selena
DESCRIPTION:
URL:https://devimandir.com/event/bollywood-dance-class-by-selena-8/
CATEGORIES:Activity Classes
END:VEVENT
BEGIN:VEVENT
DTSTART;TZID=UTC:20240811T130000
DTEND;TZID=UTC:20240811T160000
DTSTAMP:20260420T053637
CREATED:20240617T173447Z
LAST-MODIFIED:20240618T183252Z
UID:22238-1723381200-1723392000@devimandir.com
SUMMARY:Bollywood Dance class by Shobha
DESCRIPTION:
URL:https://devimandir.com/event/bollywood-dance-9/
CATEGORIES:Activity Classes
END:VEVENT
BEGIN:VEVENT
DTSTART;TZID=UTC:20240812T180000
DTEND;TZID=UTC:20240812T200000
DTSTAMP:20260420T053637
CREATED:20240619T175421Z
LAST-MODIFIED:20240619T175511Z
UID:22435-1723485600-1723492800@devimandir.com
SUMMARY:Kathak dance class
DESCRIPTION:
URL:https://devimandir.com/event/kathak-dance-class-8/
CATEGORIES:Activity Classes
END:VEVENT
BEGIN:VEVENT
DTSTART;TZID=UTC:20240815T180000
DTEND;TZID=UTC:20240815T200000
DTSTAMP:20260420T053637
CREATED:20240619T181501Z
LAST-MODIFIED:20240619T181521Z
UID:22447-1723744800-1723752000@devimandir.com
SUMMARY:Bharatanatyam dance class
DESCRIPTION:
URL:https://devimandir.com/event/bharatanatyam-dance-class-9/
CATEGORIES:Activity Classes
END:VEVENT
BEGIN:VEVENT
DTSTART;TZID=UTC:20240816T180000
DTEND;TZID=UTC:20240816T210000
DTSTAMP:20260420T053637
CREATED:20240618T192236Z
LAST-MODIFIED:20240618T192407Z
UID:22371-1723831200-1723842000@devimandir.com
SUMMARY:Bollywood dance class by Selena
DESCRIPTION:
URL:https://devimandir.com/event/bollywood-dance-class-by-selena-9/
CATEGORIES:Activity Classes
END:VEVENT
BEGIN:VEVENT
DTSTART;TZID=UTC:20240818T130000
DTEND;TZID=UTC:20240818T160000
DTSTAMP:20260420T053637
CREATED:20240617T173624Z
LAST-MODIFIED:20240618T183119Z
UID:22240-1723986000-1723996800@devimandir.com
SUMMARY:Bollywood Dance class by Shobha
DESCRIPTION:
URL:https://devimandir.com/event/bollywood-dance-10/
CATEGORIES:Activity Classes
END:VEVENT
BEGIN:VEVENT
DTSTART;TZID=UTC:20240819T180000
DTEND;TZID=UTC:20240819T200000
DTSTAMP:20260420T053637
CREATED:20240619T180802Z
LAST-MODIFIED:20240619T180821Z
UID:22441-1724090400-1724097600@devimandir.com
SUMMARY:Kathak dance class
DESCRIPTION:
URL:https://devimandir.com/event/kathak-dance-class-10/
CATEGORIES:Activity Classes
END:VEVENT
BEGIN:VEVENT
DTSTART;TZID=UTC:20240822T180000
DTEND;TZID=UTC:20240822T200000
DTSTAMP:20260420T053637
CREATED:20240619T181651Z
LAST-MODIFIED:20240619T181713Z
UID:22449-1724349600-1724356800@devimandir.com
SUMMARY:Bharatanatyam dance class
DESCRIPTION:
URL:https://devimandir.com/event/bharatanatyam-dance-class-10/
CATEGORIES:Activity Classes
END:VEVENT
BEGIN:VEVENT
DTSTART;TZID=UTC:20240823T180000
DTEND;TZID=UTC:20240823T210000
DTSTAMP:20260420T053637
CREATED:20240618T192556Z
LAST-MODIFIED:20240619T141552Z
UID:22373-1724436000-1724446800@devimandir.com
SUMMARY:Bollywood dance class by Selena
DESCRIPTION:
URL:https://devimandir.com/event/bollywood-dance-class-by-selena-10/
CATEGORIES:Activity Classes
END:VEVENT
BEGIN:VEVENT
DTSTART;TZID=UTC:20240825T130000
DTEND;TZID=UTC:20240825T160000
DTSTAMP:20260420T053637
CREATED:20240617T173752Z
LAST-MODIFIED:20240618T183136Z
UID:22242-1724590800-1724601600@devimandir.com
SUMMARY:Bollywood Dance class by Shobha
DESCRIPTION:
URL:https://devimandir.com/event/bollywood-dance-11/
CATEGORIES:Activity Classes
END:VEVENT
BEGIN:VEVENT
DTSTART;TZID=UTC:20240826T180000
DTEND;TZID=UTC:20240826T200000
DTSTAMP:20260420T053637
CREATED:20240619T180605Z
LAST-MODIFIED:20240619T180640Z
UID:22439-1724695200-1724702400@devimandir.com
SUMMARY:Kathak dance class
DESCRIPTION:
URL:https://devimandir.com/event/kathak-dance-class-9/
CATEGORIES:Activity Classes
END:VEVENT
BEGIN:VEVENT
DTSTART;TZID=UTC:20240829T180000
DTEND;TZID=UTC:20240829T200000
DTSTAMP:20260420T053637
CREATED:20240619T182002Z
LAST-MODIFIED:20240619T182041Z
UID:22453-1724954400-1724961600@devimandir.com
SUMMARY:Bharatanatyam dance class
DESCRIPTION:
URL:https://devimandir.com/event/bharatanatyam-dance-class-11/
CATEGORIES:Activity Classes
END:VEVENT
END:VCALENDAR