BEGIN:VCALENDAR
VERSION:2.0
PRODID:-//Devi Mandir Canada - ECPv6.15.16//NONSGML v1.0//EN
CALSCALE:GREGORIAN
METHOD:PUBLISH
X-ORIGINAL-URL:https://devimandir.com
X-WR-CALDESC:Events for Devi Mandir Canada
REFRESH-INTERVAL;VALUE=DURATION:PT1H
X-Robots-Tag:noindex
X-PUBLISHED-TTL:PT1H
BEGIN:VTIMEZONE
TZID:UTC
BEGIN:STANDARD
TZOFFSETFROM:+0000
TZOFFSETTO:+0000
TZNAME:UTC
DTSTART:20230101T000000
END:STANDARD
END:VTIMEZONE
BEGIN:VEVENT
DTSTART;TZID=UTC:20240825T130000
DTEND;TZID=UTC:20240825T160000
DTSTAMP:20260420T010352
CREATED:20240617T173752Z
LAST-MODIFIED:20240618T183136Z
UID:22242-1724590800-1724601600@devimandir.com
SUMMARY:Bollywood Dance class by Shobha
DESCRIPTION:
URL:https://devimandir.com/event/bollywood-dance-11/
CATEGORIES:Activity Classes
END:VEVENT
BEGIN:VEVENT
DTSTART;TZID=UTC:20240826T180000
DTEND;TZID=UTC:20240826T200000
DTSTAMP:20260420T010352
CREATED:20240619T180605Z
LAST-MODIFIED:20240619T180640Z
UID:22439-1724695200-1724702400@devimandir.com
SUMMARY:Kathak dance class
DESCRIPTION:
URL:https://devimandir.com/event/kathak-dance-class-9/
CATEGORIES:Activity Classes
END:VEVENT
BEGIN:VEVENT
DTSTART;TZID=UTC:20240829T180000
DTEND;TZID=UTC:20240829T200000
DTSTAMP:20260420T010352
CREATED:20240619T182002Z
LAST-MODIFIED:20240619T182041Z
UID:22453-1724954400-1724961600@devimandir.com
SUMMARY:Bharatanatyam dance class
DESCRIPTION:
URL:https://devimandir.com/event/bharatanatyam-dance-class-11/
CATEGORIES:Activity Classes
END:VEVENT
BEGIN:VEVENT
DTSTART;TZID=UTC:20240830T180000
DTEND;TZID=UTC:20240830T210000
DTSTAMP:20260420T010352
CREATED:20240618T192811Z
LAST-MODIFIED:20240618T192832Z
UID:22375-1725040800-1725051600@devimandir.com
SUMMARY:Bollywood dance class by Selena
DESCRIPTION:
URL:https://devimandir.com/event/bollywood-dance-class-by-selena-11/
CATEGORIES:Activity Classes
END:VEVENT
BEGIN:VEVENT
DTSTART;TZID=UTC:20240901T130000
DTEND;TZID=UTC:20240901T160000
DTSTAMP:20260420T010352
CREATED:20240624T170841Z
LAST-MODIFIED:20240624T171050Z
UID:22480-1725195600-1725206400@devimandir.com
SUMMARY:Bollywood Dance class by Shobha
DESCRIPTION:
URL:https://devimandir.com/event/bollywood-dance-class-by-shobha/
CATEGORIES:Activity Classes
END:VEVENT
BEGIN:VEVENT
DTSTART;TZID=UTC:20240902T180000
DTEND;TZID=UTC:20240902T200000
DTSTAMP:20260420T010352
CREATED:20240629T173509Z
LAST-MODIFIED:20240629T173606Z
UID:22617-1725300000-1725307200@devimandir.com
SUMMARY:Kathak dance class
DESCRIPTION:
URL:https://devimandir.com/event/kathak-dance-class-11/
CATEGORIES:Activity Classes
END:VEVENT
BEGIN:VEVENT
DTSTART;TZID=UTC:20240905T180000
DTEND;TZID=UTC:20240905T200000
DTSTAMP:20260420T010352
CREATED:20240701T194658Z
LAST-MODIFIED:20240701T194728Z
UID:22707-1725559200-1725566400@devimandir.com
SUMMARY:Bharatanatyam dance class
DESCRIPTION:
URL:https://devimandir.com/event/bharatanatyam-dance-class-12/
CATEGORIES:Activity Classes
END:VEVENT
BEGIN:VEVENT
DTSTART;TZID=UTC:20240906T180000
DTEND;TZID=UTC:20240906T210000
DTSTAMP:20260420T010352
CREATED:20240702T144029Z
LAST-MODIFIED:20240702T144058Z
UID:22718-1725645600-1725656400@devimandir.com
SUMMARY:Bollywood dance class by Selena
DESCRIPTION:
URL:https://devimandir.com/event/bollywood-dance-class-by-selena-12/
CATEGORIES:Activity Classes
END:VEVENT
BEGIN:VEVENT
DTSTART;TZID=UTC:20240908T130000
DTEND;TZID=UTC:20240908T160000
DTSTAMP:20260420T010352
CREATED:20240702T153702Z
LAST-MODIFIED:20240702T153827Z
UID:22733-1725800400-1725811200@devimandir.com
SUMMARY:Bollywood Dance class by Shobha
DESCRIPTION:
URL:https://devimandir.com/event/bollywood-dance-class-by-shobha-2/
CATEGORIES:Activity Classes
END:VEVENT
BEGIN:VEVENT
DTSTART;TZID=UTC:20240909T180000
DTEND;TZID=UTC:20240909T200000
DTSTAMP:20260420T010352
CREATED:20240629T173700Z
LAST-MODIFIED:20240629T173734Z
UID:22619-1725904800-1725912000@devimandir.com
SUMMARY:Kathak dance class
DESCRIPTION:
URL:https://devimandir.com/event/kathak-dance-class-12/
CATEGORIES:Activity Classes
END:VEVENT
BEGIN:VEVENT
DTSTART;TZID=UTC:20240912T180000
DTEND;TZID=UTC:20240912T200000
DTSTAMP:20260420T010352
CREATED:20240701T194839Z
LAST-MODIFIED:20240701T194859Z
UID:22709-1726164000-1726171200@devimandir.com
SUMMARY:Bharatanatyam dance class
DESCRIPTION:
URL:https://devimandir.com/event/bharatanatyam-dance-class-13/
CATEGORIES:Activity Classes
END:VEVENT
BEGIN:VEVENT
DTSTART;TZID=UTC:20240913T180000
DTEND;TZID=UTC:20240913T210000
DTSTAMP:20260420T010352
CREATED:20240702T144211Z
LAST-MODIFIED:20240702T144310Z
UID:22720-1726250400-1726261200@devimandir.com
SUMMARY:Bollywood dance class by Selena
DESCRIPTION:
URL:https://devimandir.com/event/bollywood-dance-class-by-selena-13/
CATEGORIES:Activity Classes
END:VEVENT
BEGIN:VEVENT
DTSTART;TZID=UTC:20240915T130000
DTEND;TZID=UTC:20240915T160000
DTSTAMP:20260420T010352
CREATED:20240702T154028Z
LAST-MODIFIED:20240702T154028Z
UID:22735-1726405200-1726416000@devimandir.com
SUMMARY:Bollywood Dance class by Shobha
DESCRIPTION:
URL:https://devimandir.com/event/bollywood-dance-class-by-shobha-3/
CATEGORIES:Activity Classes
END:VEVENT
BEGIN:VEVENT
DTSTART;TZID=UTC:20240916T180000
DTEND;TZID=UTC:20240916T200000
DTSTAMP:20260420T010352
CREATED:20240629T175405Z
LAST-MODIFIED:20240629T175458Z
UID:22621-1726509600-1726516800@devimandir.com
SUMMARY:Kathak dance class
DESCRIPTION:
URL:https://devimandir.com/event/kathak-dance-class-13/
CATEGORIES:Activity Classes
END:VEVENT
BEGIN:VEVENT
DTSTART;TZID=UTC:20240919T180000
DTEND;TZID=UTC:20240919T200000
DTSTAMP:20260420T010352
CREATED:20240701T195403Z
LAST-MODIFIED:20240701T195543Z
UID:22714-1726768800-1726776000@devimandir.com
SUMMARY:Bharatanatyam dance class
DESCRIPTION:
URL:https://devimandir.com/event/bharatanatyam-dance-class-15/
CATEGORIES:Activity Classes
END:VEVENT
BEGIN:VEVENT
DTSTART;TZID=UTC:20240920T180000
DTEND;TZID=UTC:20240920T210000
DTSTAMP:20260420T010352
CREATED:20240702T144359Z
LAST-MODIFIED:20240702T144437Z
UID:22722-1726855200-1726866000@devimandir.com
SUMMARY:Bollywood dance class by Selena
DESCRIPTION:
URL:https://devimandir.com/event/bollywood-dance-class-by-selena-14/
CATEGORIES:Activity Classes
END:VEVENT
BEGIN:VEVENT
DTSTART;TZID=UTC:20240922T130000
DTEND;TZID=UTC:20240922T160000
DTSTAMP:20260420T010352
CREATED:20240702T154946Z
LAST-MODIFIED:20240702T161758Z
UID:22737-1727010000-1727020800@devimandir.com
SUMMARY:Bollywood Dance class by Shobha
DESCRIPTION:
URL:https://devimandir.com/event/bollywood-dance-class-by-shobha-4/
CATEGORIES:Activity Classes
END:VEVENT
BEGIN:VEVENT
DTSTART;TZID=UTC:20240923T180000
DTEND;TZID=UTC:20240923T200000
DTSTAMP:20260420T010352
CREATED:20240629T175601Z
LAST-MODIFIED:20240629T175620Z
UID:22623-1727114400-1727121600@devimandir.com
SUMMARY:Kathak dance class
DESCRIPTION:
URL:https://devimandir.com/event/kathak-dance-class-14/
CATEGORIES:Activity Classes
END:VEVENT
BEGIN:VEVENT
DTSTART;TZID=UTC:20240926T180000
DTEND;TZID=UTC:20240926T200000
DTSTAMP:20260420T010352
CREATED:20240701T195123Z
LAST-MODIFIED:20240701T195208Z
UID:22711-1727373600-1727380800@devimandir.com
SUMMARY:Bharatanatyam dance class
DESCRIPTION:
URL:https://devimandir.com/event/bharatanatyam-dance-class-14/
CATEGORIES:Activity Classes
END:VEVENT
BEGIN:VEVENT
DTSTART;TZID=UTC:20240927T180000
DTEND;TZID=UTC:20240927T210000
DTSTAMP:20260420T010352
CREATED:20240702T150746Z
LAST-MODIFIED:20240702T150812Z
UID:22730-1727460000-1727470800@devimandir.com
SUMMARY:Bollywood dance class by Selena
DESCRIPTION:
URL:https://devimandir.com/event/bollywood-dance-class-by-selena-17/
CATEGORIES:Activity Classes
END:VEVENT
BEGIN:VEVENT
DTSTART;TZID=UTC:20240929T130000
DTEND;TZID=UTC:20240929T160000
DTSTAMP:20260420T010352
CREATED:20240702T155312Z
LAST-MODIFIED:20240702T155338Z
UID:22739-1727614800-1727625600@devimandir.com
SUMMARY:Bollywood Dance class by Shobha
DESCRIPTION:
URL:https://devimandir.com/event/bollywood-dance-class-by-shobha-5/
CATEGORIES:Activity Classes
END:VEVENT
BEGIN:VEVENT
DTSTART;TZID=UTC:20240930T180000
DTEND;TZID=UTC:20240930T200000
DTSTAMP:20260420T010352
CREATED:20240629T175746Z
LAST-MODIFIED:20240629T175828Z
UID:22625-1727719200-1727726400@devimandir.com
SUMMARY:Kathak dance class
DESCRIPTION:
URL:https://devimandir.com/event/kathak-dance-class-15/
CATEGORIES:Activity Classes
END:VEVENT
BEGIN:VEVENT
DTSTART;TZID=UTC:20241003T180000
DTEND;TZID=UTC:20241003T200000
DTSTAMP:20260420T010352
CREATED:20240701T195702Z
LAST-MODIFIED:20240701T195724Z
UID:22716-1727978400-1727985600@devimandir.com
SUMMARY:Bharatanatyam dance class
DESCRIPTION:
URL:https://devimandir.com/event/bharatanatyam-dance-class-16/
CATEGORIES:Activity Classes
END:VEVENT
BEGIN:VEVENT
DTSTART;TZID=UTC:20241004T180000
DTEND;TZID=UTC:20241004T210000
DTSTAMP:20260420T010352
CREATED:20240702T150619Z
LAST-MODIFIED:20240702T150619Z
UID:22728-1728064800-1728075600@devimandir.com
SUMMARY:Bollywood dance class by Selena
DESCRIPTION:
URL:https://devimandir.com/event/bollywood-dance-class-by-selena-16/
CATEGORIES:Activity Classes
END:VEVENT
BEGIN:VEVENT
DTSTART;TZID=UTC:20241006T130000
DTEND;TZID=UTC:20241006T160000
DTSTAMP:20260420T010352
CREATED:20240702T155500Z
LAST-MODIFIED:20240702T155548Z
UID:22741-1728219600-1728230400@devimandir.com
SUMMARY:Bollywood Dance class by Shobha
DESCRIPTION:
URL:https://devimandir.com/event/bollywood-dance-class-by-shobha-6/
CATEGORIES:Activity Classes
END:VEVENT
BEGIN:VEVENT
DTSTART;TZID=UTC:20241007T180000
DTEND;TZID=UTC:20241007T200000
DTSTAMP:20260420T010352
CREATED:20240629T180003Z
LAST-MODIFIED:20240629T180038Z
UID:22627-1728324000-1728331200@devimandir.com
SUMMARY:Kathak dance class
DESCRIPTION:
URL:https://devimandir.com/event/kathak-dance-class-16/
CATEGORIES:Activity Classes
END:VEVENT
BEGIN:VEVENT
DTSTART;TZID=UTC:20241007T180000
DTEND;TZID=UTC:20241007T200000
DTSTAMP:20260420T010352
CREATED:20240629T180146Z
LAST-MODIFIED:20240629T180226Z
UID:22630-1728324000-1728331200@devimandir.com
SUMMARY:Shiv Puja-Abhishek-Archana-Prasad-Kirtan-Aarti
DESCRIPTION:
URL:https://devimandir.com/event/shiv-puja-abhishek-archana-prasad-kirtan-aarti/
CATEGORIES:Activity Classes,Puja- Every Monday
END:VEVENT
BEGIN:VEVENT
DTSTART;TZID=UTC:20241010T180000
DTEND;TZID=UTC:20241010T200000
DTSTAMP:20260420T010352
CREATED:20240706T144821Z
LAST-MODIFIED:20240706T144843Z
UID:22958-1728583200-1728590400@devimandir.com
SUMMARY:Bharatanatyam dance class
DESCRIPTION:
URL:https://devimandir.com/event/bharatanatyam-dance-class-17/
CATEGORIES:Activity Classes
END:VEVENT
BEGIN:VEVENT
DTSTART;TZID=UTC:20241011T180000
DTEND;TZID=UTC:20241011T210000
DTSTAMP:20260420T010352
CREATED:20240703T151844Z
LAST-MODIFIED:20240703T151904Z
UID:22771-1728669600-1728680400@devimandir.com
SUMMARY:Bollywood dance class by Selena
DESCRIPTION:
URL:https://devimandir.com/event/bollywood-dance-class-by-selena-15/
CATEGORIES:Activity Classes
END:VEVENT
BEGIN:VEVENT
DTSTART;TZID=UTC:20241013T130000
DTEND;TZID=UTC:20241013T160000
DTSTAMP:20260420T010352
CREATED:20240703T150921Z
LAST-MODIFIED:20240703T150955Z
UID:22761-1728824400-1728835200@devimandir.com
SUMMARY:Bollywood Dance class by Shobha
DESCRIPTION:
URL:https://devimandir.com/event/bollywood-dance-class-by-shobha-7/
CATEGORIES:Activity Classes
END:VEVENT
END:VCALENDAR