BEGIN:VCALENDAR
VERSION:2.0
PRODID:-//Devi Mandir Canada - ECPv6.15.16//NONSGML v1.0//EN
CALSCALE:GREGORIAN
METHOD:PUBLISH
X-ORIGINAL-URL:https://devimandir.com
X-WR-CALDESC:Events for Devi Mandir Canada
REFRESH-INTERVAL;VALUE=DURATION:PT1H
X-Robots-Tag:noindex
X-PUBLISHED-TTL:PT1H
BEGIN:VTIMEZONE
TZID:UTC
BEGIN:STANDARD
TZOFFSETFROM:+0000
TZOFFSETTO:+0000
TZNAME:UTC
DTSTART:20250101T000000
END:STANDARD
END:VTIMEZONE
BEGIN:VEVENT
DTSTART;TZID=UTC:20260420T180000
DTEND;TZID=UTC:20260420T200000
DTSTAMP:20260420T020916
CREATED:20251008T170852Z
LAST-MODIFIED:20251008T170852Z
UID:27214-1776708000-1776715200@devimandir.com
SUMMARY:Kathak dance class
DESCRIPTION:
URL:https://devimandir.com/event/kathak-dance-class-96/
CATEGORIES:Activity Classes
END:VEVENT
BEGIN:VEVENT
DTSTART;TZID=UTC:20260422T170000
DTEND;TZID=UTC:20260422T190000
DTSTAMP:20260420T020916
CREATED:20251008T171440Z
LAST-MODIFIED:20251008T171440Z
UID:27222-1776877200-1776884400@devimandir.com
SUMMARY:Tabla Class
DESCRIPTION:
URL:https://devimandir.com/event/tabla-class-13/
CATEGORIES:Activity Classes
END:VEVENT
BEGIN:VEVENT
DTSTART;TZID=UTC:20260423T180000
DTEND;TZID=UTC:20260423T200000
DTSTAMP:20260420T020916
CREATED:20251008T171710Z
LAST-MODIFIED:20251008T171710Z
UID:27226-1776967200-1776974400@devimandir.com
SUMMARY:Bharatanatyam dance class
DESCRIPTION:
URL:https://devimandir.com/event/bharatanatyam-dance-class-97/
CATEGORIES:Activity Classes
END:VEVENT
BEGIN:VEVENT
DTSTART;TZID=UTC:20260424T180000
DTEND;TZID=UTC:20260424T210000
DTSTAMP:20260420T020916
CREATED:20251008T173226Z
LAST-MODIFIED:20251008T173226Z
UID:27238-1777053600-1777064400@devimandir.com
SUMMARY:Bollywood dance class by Selena
DESCRIPTION:
URL:https://devimandir.com/event/bollywood-dance-class-by-selena-95/
CATEGORIES:Activity Classes
END:VEVENT
BEGIN:VEVENT
DTSTART;TZID=UTC:20260426T103000
DTEND;TZID=UTC:20260426T110000
DTSTAMP:20260420T020916
CREATED:20251008T162801Z
LAST-MODIFIED:20251008T162801Z
UID:27182-1777199400-1777201200@devimandir.com
SUMMARY:Baal Vikas Class
DESCRIPTION:
URL:https://devimandir.com/event/baal-vikas-class-24/
CATEGORIES:Activity Classes
END:VEVENT
BEGIN:VEVENT
DTSTART;TZID=UTC:20260426T123000
DTEND;TZID=UTC:20260426T133000
DTSTAMP:20260420T020916
CREATED:20251008T164839Z
LAST-MODIFIED:20251008T164839Z
UID:27198-1777206600-1777210200@devimandir.com
SUMMARY:Kirtan Class
DESCRIPTION:
URL:https://devimandir.com/event/kirtan-class-28/
CATEGORIES:Activity Classes
END:VEVENT
BEGIN:VEVENT
DTSTART;TZID=UTC:20260427T180000
DTEND;TZID=UTC:20260427T200000
DTSTAMP:20260420T020916
CREATED:20251008T162208Z
LAST-MODIFIED:20251008T162208Z
UID:27170-1777312800-1777320000@devimandir.com
SUMMARY:Kathak dance class
DESCRIPTION:
URL:https://devimandir.com/event/kathak-dance-class-94/
CATEGORIES:Activity Classes
END:VEVENT
BEGIN:VEVENT
DTSTART;TZID=UTC:20260429T170000
DTEND;TZID=UTC:20260429T190000
DTSTAMP:20260420T020916
CREATED:20251008T162122Z
LAST-MODIFIED:20251008T162122Z
UID:27168-1777482000-1777489200@devimandir.com
SUMMARY:Tabla Class
DESCRIPTION:
URL:https://devimandir.com/event/tabla-class-10/
CATEGORIES:Activity Classes
END:VEVENT
BEGIN:VEVENT
DTSTART;TZID=UTC:20260430T180000
DTEND;TZID=UTC:20260430T200000
DTSTAMP:20260420T020916
CREATED:20251008T162303Z
LAST-MODIFIED:20251008T162303Z
UID:27172-1777572000-1777579200@devimandir.com
SUMMARY:Bharatanatyam dance class
DESCRIPTION:
URL:https://devimandir.com/event/bharatanatyam-dance-class-95/
CATEGORIES:Activity Classes
END:VEVENT
END:VCALENDAR