BEGIN:VCALENDAR
VERSION:2.0
PRODID:-//Devi Mandir Canada - ECPv6.15.16//NONSGML v1.0//EN
CALSCALE:GREGORIAN
METHOD:PUBLISH
X-ORIGINAL-URL:https://devimandir.com
X-WR-CALDESC:Events for Devi Mandir Canada
REFRESH-INTERVAL;VALUE=DURATION:PT1H
X-Robots-Tag:noindex
X-PUBLISHED-TTL:PT1H
BEGIN:VTIMEZONE
TZID:UTC
BEGIN:STANDARD
TZOFFSETFROM:+0000
TZOFFSETTO:+0000
TZNAME:UTC
DTSTART:20240101T000000
END:STANDARD
END:VTIMEZONE
BEGIN:VEVENT
DTSTART;TZID=UTC:20251130T103000
DTEND;TZID=UTC:20251130T110000
DTSTAMP:20260424T061332
CREATED:20251005T174114Z
LAST-MODIFIED:20251005T174114Z
UID:26835-1764498600-1764500400@devimandir.com
SUMMARY:Baal Vikas Class
DESCRIPTION:
URL:https://devimandir.com/event/baal-vikas-class-5/
CATEGORIES:Activity Classes
END:VEVENT
BEGIN:VEVENT
DTSTART;TZID=UTC:20251130T123000
DTEND;TZID=UTC:20251130T133000
DTSTAMP:20260424T061332
CREATED:20251005T181326Z
LAST-MODIFIED:20251005T181326Z
UID:26868-1764505800-1764509400@devimandir.com
SUMMARY:Kirtan Class
DESCRIPTION:
URL:https://devimandir.com/event/kirtan-class-11/
CATEGORIES:Activity Classes
END:VEVENT
END:VCALENDAR