BEGIN:VCALENDAR
VERSION:2.0
PRODID:-//Devi Mandir Canada - ECPv6.15.16//NONSGML v1.0//EN
CALSCALE:GREGORIAN
METHOD:PUBLISH
X-ORIGINAL-URL:https://devimandir.com
X-WR-CALDESC:Events for Devi Mandir Canada
REFRESH-INTERVAL;VALUE=DURATION:PT1H
X-Robots-Tag:noindex
X-PUBLISHED-TTL:PT1H
BEGIN:VTIMEZONE
TZID:UTC
BEGIN:STANDARD
TZOFFSETFROM:+0000
TZOFFSETTO:+0000
TZNAME:UTC
DTSTART:20240101T000000
END:STANDARD
END:VTIMEZONE
BEGIN:VEVENT
DTSTART;TZID=UTC:20251003T180000
DTEND;TZID=UTC:20251003T210000
DTSTAMP:20260425T123931
CREATED:20240819T161222Z
LAST-MODIFIED:20240819T162344Z
UID:24126-1759514400-1759525200@devimandir.com
SUMMARY:Bollywood dance class by Selena
DESCRIPTION:
URL:https://devimandir.com/event/bollywood-dance-class-by-shobha-56/
CATEGORIES:Activity Classes
END:VEVENT
END:VCALENDAR