BEGIN:VCALENDAR
VERSION:2.0
PRODID:-//Devi Mandir Canada - ECPv6.15.16//NONSGML v1.0//EN
CALSCALE:GREGORIAN
METHOD:PUBLISH
X-ORIGINAL-URL:https://devimandir.com
X-WR-CALDESC:Events for Devi Mandir Canada
REFRESH-INTERVAL;VALUE=DURATION:PT1H
X-Robots-Tag:noindex
X-PUBLISHED-TTL:PT1H
BEGIN:VTIMEZONE
TZID:UTC
BEGIN:STANDARD
TZOFFSETFROM:+0000
TZOFFSETTO:+0000
TZNAME:UTC
DTSTART:20230101T000000
END:STANDARD
END:VTIMEZONE
BEGIN:VEVENT
DTSTART;TZID=UTC:20240616T130000
DTEND;TZID=UTC:20240616T160000
DTSTAMP:20260420T003257
CREATED:20240615T163143Z
LAST-MODIFIED:20240615T163238Z
UID:22197-1718542800-1718553600@devimandir.com
SUMMARY:Bollywood dance
DESCRIPTION:Bollywood dance by Shobha \n(Every Sunday : 1pm -4pm )
URL:https://devimandir.com/event/bollywood-dance/
CATEGORIES:Activity Classes
END:VEVENT
BEGIN:VEVENT
DTSTART;TZID=UTC:20240620T180000
DTEND;TZID=UTC:20240620T200000
DTSTAMP:20260420T003257
CREATED:20240618T181633Z
LAST-MODIFIED:20240618T181701Z
UID:22326-1718906400-1718913600@devimandir.com
SUMMARY:Bharatanatyam dance class
DESCRIPTION:
URL:https://devimandir.com/event/bharatanatyam-dance-class/
CATEGORIES:Activity Classes
END:VEVENT
BEGIN:VEVENT
DTSTART;TZID=UTC:20240621T180000
DTEND;TZID=UTC:20240621T210000
DTSTAMP:20260420T003257
CREATED:20240618T184034Z
LAST-MODIFIED:20240618T184034Z
UID:22355-1718992800-1719003600@devimandir.com
SUMMARY:Bollywood dance class by Selena
DESCRIPTION:
URL:https://devimandir.com/event/bollywood-dance-class-by-selena-2/
CATEGORIES:Activity Classes
END:VEVENT
BEGIN:VEVENT
DTSTART;TZID=UTC:20240623T130000
DTEND;TZID=UTC:20240623T160000
DTSTAMP:20260420T003257
CREATED:20240615T163428Z
LAST-MODIFIED:20240618T183732Z
UID:22199-1719147600-1719158400@devimandir.com
SUMMARY:Bollywood Dance class by Shobha
DESCRIPTION:Bollywood dance by Shobha \n(Every Sunday : 1pm -4pm )
URL:https://devimandir.com/event/bollywood-dance-2/
CATEGORIES:Activity Classes
END:VEVENT
BEGIN:VEVENT
DTSTART;TZID=UTC:20240624T180000
DTEND;TZID=UTC:20240624T200000
DTSTAMP:20260420T003257
CREATED:20240619T141246Z
LAST-MODIFIED:20240619T141309Z
UID:22377-1719252000-1719259200@devimandir.com
SUMMARY:Kathak dance class
DESCRIPTION:
URL:https://devimandir.com/event/kathak-dance-class-6/
CATEGORIES:Activity Classes
END:VEVENT
BEGIN:VEVENT
DTSTART;TZID=UTC:20240627T180000
DTEND;TZID=UTC:20240627T200000
DTSTAMP:20260420T003257
CREATED:20240618T181800Z
LAST-MODIFIED:20240618T181821Z
UID:22328-1719511200-1719518400@devimandir.com
SUMMARY:Bharatanatyam dance class
DESCRIPTION:
URL:https://devimandir.com/event/bharatanatyam-dance-class-2/
CATEGORIES:Activity Classes
END:VEVENT
BEGIN:VEVENT
DTSTART;TZID=UTC:20240628T180000
DTEND;TZID=UTC:20240628T210000
DTSTAMP:20260420T003257
CREATED:20240618T182937Z
LAST-MODIFIED:20240618T182955Z
UID:22343-1719597600-1719608400@devimandir.com
SUMMARY:Bollywood dance class by Selena
DESCRIPTION:
URL:https://devimandir.com/event/bollywood-dance-class-by-selena/
CATEGORIES:Activity Classes
END:VEVENT
BEGIN:VEVENT
DTSTART;TZID=UTC:20240630T130000
DTEND;TZID=UTC:20240630T160000
DTSTAMP:20260420T003257
CREATED:20240615T163606Z
LAST-MODIFIED:20240618T183401Z
UID:22202-1719752400-1719763200@devimandir.com
SUMMARY:Bollywood Dance class by Shobha
DESCRIPTION:Bollywood dance by Shobha \n(Every Sunday : 1pm -4pm )
URL:https://devimandir.com/event/bollywood-dance-3/
CATEGORIES:Activity Classes
END:VEVENT
END:VCALENDAR