BEGIN:VCALENDAR
VERSION:2.0
PRODID:-//Devi Mandir Canada - ECPv6.15.16//NONSGML v1.0//EN
CALSCALE:GREGORIAN
METHOD:PUBLISH
X-WR-CALNAME:Devi Mandir Canada
X-ORIGINAL-URL:https://devimandir.com
X-WR-CALDESC:Events for Devi Mandir Canada
REFRESH-INTERVAL;VALUE=DURATION:PT1H
X-Robots-Tag:noindex
X-PUBLISHED-TTL:PT1H
BEGIN:VTIMEZONE
TZID:UTC
BEGIN:STANDARD
TZOFFSETFROM:+0000
TZOFFSETTO:+0000
TZNAME:UTC
DTSTART:20250101T000000
END:STANDARD
END:VTIMEZONE
BEGIN:VEVENT
DTSTART;TZID=UTC:20260508T180000
DTEND;TZID=UTC:20260508T200000
DTSTAMP:20260421T130154
CREATED:20251024T170739Z
LAST-MODIFIED:20251024T170739Z
UID:27421-1778263200-1778270400@devimandir.com
SUMMARY:Maa Durga Puja- Abhishek-Archana-Prasad-Kirtan-Aarti
DESCRIPTION:
URL:https://devimandir.com/event/maa-durga-puja-abhishek-archana-prasad-kirtan-aarti-100/
CATEGORIES:Puja-Every Friday
END:VEVENT
BEGIN:VEVENT
DTSTART;TZID=UTC:20260508T180000
DTEND;TZID=UTC:20260508T210000
DTSTAMP:20260421T130154
CREATED:20251024T163835Z
LAST-MODIFIED:20251024T163835Z
UID:27415-1778263200-1778274000@devimandir.com
SUMMARY:Bollywood dance class by Selena
DESCRIPTION:
URL:https://devimandir.com/event/bollywood-dance-class-by-selena-98/
CATEGORIES:Activity Classes
END:VEVENT
END:VCALENDAR