BEGIN:VCALENDAR
VERSION:2.0
PRODID:-//Devi Mandir Canada - ECPv6.15.16//NONSGML v1.0//EN
CALSCALE:GREGORIAN
METHOD:PUBLISH
X-ORIGINAL-URL:https://devimandir.com
X-WR-CALDESC:Events for Devi Mandir Canada
REFRESH-INTERVAL;VALUE=DURATION:PT1H
X-Robots-Tag:noindex
X-PUBLISHED-TTL:PT1H
BEGIN:VTIMEZONE
TZID:UTC
BEGIN:STANDARD
TZOFFSETFROM:+0000
TZOFFSETTO:+0000
TZNAME:UTC
DTSTART:20250101T000000
END:STANDARD
END:VTIMEZONE
BEGIN:VEVENT
DTSTART;TZID=UTC:20260104T090000
DTEND;TZID=UTC:20260104T120000
DTSTAMP:20260423T114228
CREATED:20240827T173034Z
LAST-MODIFIED:20240827T173034Z
UID:24567-1767517200-1767528000@devimandir.com
SUMMARY:Sunday Service-Puja-Prasad-Bhajans-Katha-Aarti
DESCRIPTION:
URL:https://devimandir.com/event/sunday-service-puja-prasad-bhajans-katha-aarti-82/
CATEGORIES:Puja-Every Sunday
END:VEVENT
BEGIN:VEVENT
DTSTART;TZID=UTC:20260104T103000
DTEND;TZID=UTC:20260104T110000
DTSTAMP:20260423T114228
CREATED:20251005T174606Z
LAST-MODIFIED:20251005T174606Z
UID:26845-1767522600-1767524400@devimandir.com
SUMMARY:Baal Vikas Class
DESCRIPTION:
URL:https://devimandir.com/event/baal-vikas-class-10/
CATEGORIES:Activity Classes
END:VEVENT
BEGIN:VEVENT
DTSTART;TZID=UTC:20260104T123000
DTEND;TZID=UTC:20260104T133000
DTSTAMP:20260423T114228
CREATED:20251005T181628Z
LAST-MODIFIED:20251005T181628Z
UID:26872-1767529800-1767533400@devimandir.com
SUMMARY:Kirtan Class
DESCRIPTION:
URL:https://devimandir.com/event/kirtan-class-12/
CATEGORIES:Activity Classes
END:VEVENT
BEGIN:VEVENT
DTSTART;TZID=UTC:20260104T130000
DTEND;TZID=UTC:20260104T160000
DTSTAMP:20260423T114228
CREATED:20240827T173939Z
LAST-MODIFIED:20240827T173939Z
UID:24577-1767531600-1767542400@devimandir.com
SUMMARY:Bollywood Dance class by Shobha
DESCRIPTION:
URL:https://devimandir.com/event/bollywood-dance-class-by-shobha-73/
CATEGORIES:Activity Classes
END:VEVENT
END:VCALENDAR