BEGIN:VCALENDAR
VERSION:2.0
PRODID:-//Devi Mandir Canada - ECPv6.15.16//NONSGML v1.0//EN
CALSCALE:GREGORIAN
METHOD:PUBLISH
X-ORIGINAL-URL:https://devimandir.com
X-WR-CALDESC:Events for Devi Mandir Canada
REFRESH-INTERVAL;VALUE=DURATION:PT1H
X-Robots-Tag:noindex
X-PUBLISHED-TTL:PT1H
BEGIN:VTIMEZONE
TZID:UTC
BEGIN:STANDARD
TZOFFSETFROM:+0000
TZOFFSETTO:+0000
TZNAME:UTC
DTSTART:20240101T000000
END:STANDARD
END:VTIMEZONE
BEGIN:VEVENT
DTSTART;TZID=UTC:20251228T090000
DTEND;TZID=UTC:20251228T120000
DTSTAMP:20260423T114158
CREATED:20240824T175406Z
LAST-MODIFIED:20240824T175406Z
UID:24443-1766912400-1766923200@devimandir.com
SUMMARY:Sunday Service-Puja-Prasad-Bhajans-Katha-Aarti
DESCRIPTION:
URL:https://devimandir.com/event/sunday-service-puja-prasad-bhajans-katha-aarti-81/
CATEGORIES:Puja-Every Sunday
END:VEVENT
BEGIN:VEVENT
DTSTART;TZID=UTC:20251228T103000
DTEND;TZID=UTC:20251228T110000
DTSTAMP:20260423T114158
CREATED:20251005T174410Z
LAST-MODIFIED:20251005T174410Z
UID:26841-1766917800-1766919600@devimandir.com
SUMMARY:Baal Vikas Class
DESCRIPTION:
URL:https://devimandir.com/event/baal-vikas-class-8/
CATEGORIES:Activity Classes
END:VEVENT
BEGIN:VEVENT
DTSTART;TZID=UTC:20251228T123000
DTEND;TZID=UTC:20251228T133000
DTSTAMP:20260423T114158
CREATED:20251005T175053Z
LAST-MODIFIED:20251005T175053Z
UID:26853-1766925000-1766928600@devimandir.com
SUMMARY:Kirtan Class
DESCRIPTION:
URL:https://devimandir.com/event/kirtan-class-4/
CATEGORIES:Activity Classes
END:VEVENT
END:VCALENDAR