BEGIN:VCALENDAR
VERSION:2.0
PRODID:-//Devi Mandir Canada - ECPv6.15.16//NONSGML v1.0//EN
CALSCALE:GREGORIAN
METHOD:PUBLISH
X-ORIGINAL-URL:https://devimandir.com
X-WR-CALDESC:Events for Devi Mandir Canada
REFRESH-INTERVAL;VALUE=DURATION:PT1H
X-Robots-Tag:noindex
X-PUBLISHED-TTL:PT1H
BEGIN:VTIMEZONE
TZID:UTC
BEGIN:STANDARD
TZOFFSETFROM:+0000
TZOFFSETTO:+0000
TZNAME:UTC
DTSTART:20240101T000000
END:STANDARD
END:VTIMEZONE
BEGIN:VEVENT
DTSTART;TZID=UTC:20251214T081900
DTEND;TZID=UTC:20251215T104900
DTSTAMP:20260423T114149
CREATED:20240817T162024Z
LAST-MODIFIED:20240817T162024Z
UID:24090-1765700340-1765795740@devimandir.com
SUMMARY:Saphala Ekadashi
DESCRIPTION:Begins – 08:19 AM\, Dec 14\nEnds – 10:49 AM\, Dec 15
URL:https://devimandir.com/event/saphala-ekadashi-2/
CATEGORIES:Fast & Festivals
END:VEVENT
BEGIN:VEVENT
DTSTART;TZID=UTC:20251215T080000
DTEND;TZID=UTC:20251215T200000
DTSTAMP:20260423T114149
CREATED:20240827T170941Z
LAST-MODIFIED:20240827T170941Z
UID:24549-1765785600-1765828800@devimandir.com
SUMMARY:DHANU SANKRANTI
DESCRIPTION:
URL:https://devimandir.com/event/dhanu-sankranti-2/
CATEGORIES:Fast & Festivals
END:VEVENT
BEGIN:VEVENT
DTSTART;TZID=UTC:20251215T180000
DTEND;TZID=UTC:20251215T200000
DTSTAMP:20260423T114149
CREATED:20240824T172915Z
LAST-MODIFIED:20240824T172915Z
UID:24410-1765821600-1765828800@devimandir.com
SUMMARY:Kathak dance class
DESCRIPTION:
URL:https://devimandir.com/event/kathak-dance-class-79/
CATEGORIES:Activity Classes
END:VEVENT
BEGIN:VEVENT
DTSTART;TZID=UTC:20251215T180000
DTEND;TZID=UTC:20251215T200000
DTSTAMP:20260423T114149
CREATED:20240824T173857Z
LAST-MODIFIED:20240824T173857Z
UID:24426-1765821600-1765828800@devimandir.com
SUMMARY:Shiv Puja-Abhishek-Archana-Prasad-Kirtan-Aarti
DESCRIPTION:
URL:https://devimandir.com/event/shiv-puja-abhishek-archana-prasad-kirtan-aarti-64/
CATEGORIES:Puja- Every Monday
END:VEVENT
END:VCALENDAR