BEGIN:VCALENDAR
VERSION:2.0
PRODID:-//Devi Mandir Canada - ECPv6.15.16//NONSGML v1.0//EN
CALSCALE:GREGORIAN
METHOD:PUBLISH
X-ORIGINAL-URL:https://devimandir.com
X-WR-CALDESC:Events for Devi Mandir Canada
REFRESH-INTERVAL;VALUE=DURATION:PT1H
X-Robots-Tag:noindex
X-PUBLISHED-TTL:PT1H
BEGIN:VTIMEZONE
TZID:UTC
BEGIN:STANDARD
TZOFFSETFROM:+0000
TZOFFSETTO:+0000
TZNAME:UTC
DTSTART:20240101T000000
END:STANDARD
END:VTIMEZONE
BEGIN:VEVENT
DTSTART;TZID=UTC:20251214T081900
DTEND;TZID=UTC:20251215T104900
DTSTAMP:20260423T031734
CREATED:20240817T162024Z
LAST-MODIFIED:20240817T162024Z
UID:24090-1765700340-1765795740@devimandir.com
SUMMARY:Saphala Ekadashi
DESCRIPTION:Begins – 08:19 AM\, Dec 14\nEnds – 10:49 AM\, Dec 15
URL:https://devimandir.com/event/saphala-ekadashi-2/
CATEGORIES:Fast & Festivals
END:VEVENT
BEGIN:VEVENT
DTSTART;TZID=UTC:20251214T083000
DTEND;TZID=UTC:20251214T130000
DTSTAMP:20260423T031734
CREATED:20250917T143339Z
LAST-MODIFIED:20250917T143339Z
UID:26736-1765701000-1765717200@devimandir.com
SUMMARY:Morning Puja sponsored
DESCRIPTION:
URL:https://devimandir.com/event/morning-puja-sponsored-40/
CATEGORIES:Puja-Every Sunday
END:VEVENT
BEGIN:VEVENT
DTSTART;TZID=UTC:20251214T090000
DTEND;TZID=UTC:20251214T120000
DTSTAMP:20260423T031734
CREATED:20240824T175207Z
LAST-MODIFIED:20240831T160645Z
UID:24438-1765702800-1765713600@devimandir.com
SUMMARY:Sunday Service-Puja-Prasad-Bhajans-Katha-Aarti
DESCRIPTION:
URL:https://devimandir.com/event/sunday-service-puja-prasad-bhajans-katha-aarti-79/
CATEGORIES:Puja-Every Sunday
END:VEVENT
BEGIN:VEVENT
DTSTART;TZID=UTC:20251214T103000
DTEND;TZID=UTC:20251214T110000
DTSTAMP:20260423T031734
CREATED:20251005T174258Z
LAST-MODIFIED:20251005T174258Z
UID:26839-1765708200-1765710000@devimandir.com
SUMMARY:Baal Vikas Class
DESCRIPTION:
URL:https://devimandir.com/event/baal-vikas-class-7/
CATEGORIES:Activity Classes
END:VEVENT
BEGIN:VEVENT
DTSTART;TZID=UTC:20251214T123000
DTEND;TZID=UTC:20251214T133000
DTSTAMP:20260423T031734
CREATED:20251005T174850Z
LAST-MODIFIED:20251005T181901Z
UID:26849-1765715400-1765719000@devimandir.com
SUMMARY:Kirtan Class
DESCRIPTION:
URL:https://devimandir.com/event/kirtan-class-2/
CATEGORIES:Activity Classes
END:VEVENT
END:VCALENDAR