BEGIN:VCALENDAR
VERSION:2.0
PRODID:-//Devi Mandir Canada - ECPv6.15.16//NONSGML v1.0//EN
CALSCALE:GREGORIAN
METHOD:PUBLISH
X-ORIGINAL-URL:https://devimandir.com
X-WR-CALDESC:Events for Devi Mandir Canada
REFRESH-INTERVAL;VALUE=DURATION:PT1H
X-Robots-Tag:noindex
X-PUBLISHED-TTL:PT1H
BEGIN:VTIMEZONE
TZID:UTC
BEGIN:STANDARD
TZOFFSETFROM:+0000
TZOFFSETTO:+0000
TZNAME:UTC
DTSTART:20240101T000000
END:STANDARD
END:VTIMEZONE
BEGIN:VEVENT
DTSTART;TZID=UTC:20251203T170000
DTEND;TZID=UTC:20251203T190000
DTSTAMP:20260423T114152
CREATED:20251005T162610Z
LAST-MODIFIED:20251007T175453Z
UID:26807-1764781200-1764788400@devimandir.com
SUMMARY:Tabla Class
DESCRIPTION:
URL:https://devimandir.com/event/tabla-classes-10/
CATEGORIES:Activity Classes
END:VEVENT
BEGIN:VEVENT
DTSTART;TZID=UTC:20251203T220700
DTEND;TZID=UTC:20251204T181300
DTSTAMP:20260423T114152
CREATED:20240817T160444Z
LAST-MODIFIED:20240817T160444Z
UID:24083-1764799620-1764871980@devimandir.com
SUMMARY:Margashirsha Purnima
DESCRIPTION:Begins – 10:07 PM\, Dec 03\nEnds – 06:13 PM\, Dec 04
URL:https://devimandir.com/event/margashirsha-purnima-2/
CATEGORIES:Fast & Festivals
END:VEVENT
END:VCALENDAR