BEGIN:VCALENDAR
VERSION:2.0
PRODID:-//Devi Mandir Canada - ECPv6.15.16//NONSGML v1.0//EN
CALSCALE:GREGORIAN
METHOD:PUBLISH
X-WR-CALNAME:Devi Mandir Canada
X-ORIGINAL-URL:https://devimandir.com
X-WR-CALDESC:Events for Devi Mandir Canada
REFRESH-INTERVAL;VALUE=DURATION:PT1H
X-Robots-Tag:noindex
X-PUBLISHED-TTL:PT1H
BEGIN:VTIMEZONE
TZID:UTC
BEGIN:STANDARD
TZOFFSETFROM:+0000
TZOFFSETTO:+0000
TZNAME:UTC
DTSTART:20240101T000000
END:STANDARD
END:VTIMEZONE
BEGIN:VEVENT
DTSTART;TZID=UTC:20250922T080000
DTEND;TZID=UTC:20250930T200000
DTSTAMP:20260424T042429
CREATED:20240809T164557Z
LAST-MODIFIED:20241219T181703Z
UID:23435-1758528000-1759262400@devimandir.com
SUMMARY:Shardiya Navratri (22nd- 30th)
DESCRIPTION:
URL:https://devimandir.com/event/shardiya-navratri/
CATEGORIES:Fast & Festivals
END:VEVENT
BEGIN:VEVENT
DTSTART;TZID=UTC:20250926T170000
DTEND;TZID=UTC:20250930T200000
DTSTAMP:20260424T042429
CREATED:20241219T182253Z
LAST-MODIFIED:20241219T183101Z
UID:25406-1758906000-1759262400@devimandir.com
SUMMARY:NAVRATRI PROGRAM by Pt.Neil (26th-30th)
DESCRIPTION:
URL:https://devimandir.com/event/navratri-program-by-pt-neil/
CATEGORIES:Special event
END:VEVENT
BEGIN:VEVENT
DTSTART;TZID=UTC:20250930T180000
DTEND;TZID=UTC:20250930T200000
DTSTAMP:20260424T042429
CREATED:20240819T153614Z
LAST-MODIFIED:20240819T153614Z
UID:24118-1759255200-1759262400@devimandir.com
SUMMARY:Hanuman ji Puja-Abhishek-Archana-Prasad-Chalisa-Bhajans- Aarti
DESCRIPTION:
URL:https://devimandir.com/event/hanuman-ji-puja-abhishek-archana-prasad-chalisa-bhajans-aarti-65/
CATEGORIES:Puja-Every Tuesday
END:VEVENT
END:VCALENDAR