BEGIN:VCALENDAR
VERSION:2.0
PRODID:-//Devi Mandir Canada - ECPv6.15.16//NONSGML v1.0//EN
CALSCALE:GREGORIAN
METHOD:PUBLISH
X-WR-CALNAME:Devi Mandir Canada
X-ORIGINAL-URL:https://devimandir.com
X-WR-CALDESC:Events for Devi Mandir Canada
REFRESH-INTERVAL;VALUE=DURATION:PT1H
X-Robots-Tag:noindex
X-PUBLISHED-TTL:PT1H
BEGIN:VTIMEZONE
TZID:UTC
BEGIN:STANDARD
TZOFFSETFROM:+0000
TZOFFSETTO:+0000
TZNAME:UTC
DTSTART:20240101T000000
END:STANDARD
END:VTIMEZONE
BEGIN:VEVENT
DTSTART;TZID=UTC:20250922T080000
DTEND;TZID=UTC:20250930T200000
DTSTAMP:20260424T151503
CREATED:20240809T164557Z
LAST-MODIFIED:20241219T181703Z
UID:23435-1758528000-1759262400@devimandir.com
SUMMARY:Shardiya Navratri (22nd- 30th)
DESCRIPTION:
URL:https://devimandir.com/event/shardiya-navratri/
CATEGORIES:Fast & Festivals
END:VEVENT
BEGIN:VEVENT
DTSTART;TZID=UTC:20250922T170000
DTEND;TZID=UTC:20250925T200000
DTSTAMP:20260424T151503
CREATED:20241219T182432Z
LAST-MODIFIED:20241219T183125Z
UID:25408-1758560400-1758830400@devimandir.com
SUMMARY:NAVRATRI  PROGRAM by Devi Mandir (22nd-25th)
DESCRIPTION:
URL:https://devimandir.com/event/navratri-program-by-devi-mandir/
CATEGORIES:Special event
END:VEVENT
BEGIN:VEVENT
DTSTART;TZID=UTC:20250923T180000
DTEND;TZID=UTC:20250923T200000
DTSTAMP:20260424T151503
CREATED:20240820T154052Z
LAST-MODIFIED:20240820T154052Z
UID:24198-1758650400-1758657600@devimandir.com
SUMMARY:Hanuman ji Puja-Abhishek-Archana-Prasad-Chalisa-Bhajans- Aarti
DESCRIPTION:
URL:https://devimandir.com/event/hanuman-ji-puja-abhishek-archana-prasad-chalisa-bhajans-aarti-71/
CATEGORIES:Puja-Every Tuesday
END:VEVENT
END:VCALENDAR