BEGIN:VCALENDAR
VERSION:2.0
PRODID:-//Devi Mandir Canada - ECPv6.15.16//NONSGML v1.0//EN
CALSCALE:GREGORIAN
METHOD:PUBLISH
X-ORIGINAL-URL:https://devimandir.com
X-WR-CALDESC:Events for Devi Mandir Canada
REFRESH-INTERVAL;VALUE=DURATION:PT1H
X-Robots-Tag:noindex
X-PUBLISHED-TTL:PT1H
BEGIN:VTIMEZONE
TZID:UTC
BEGIN:STANDARD
TZOFFSETFROM:+0000
TZOFFSETTO:+0000
TZNAME:UTC
DTSTART:20240101T000000
END:STANDARD
END:VTIMEZONE
BEGIN:VEVENT
DTSTART;TZID=UTC:20250920T144600
DTEND;TZID=UTC:20250921T155300
DTSTAMP:20260424T132903
CREATED:20240816T165225Z
LAST-MODIFIED:20240816T165225Z
UID:24053-1758379560-1758469980@devimandir.com
SUMMARY:Ashwina Amavasya
DESCRIPTION:Begins – 02:46 PM\, Sep 20\nEnds – 03:53 PM\, Sep 21
URL:https://devimandir.com/event/ashwina-amavasya/
CATEGORIES:Fast & Festivals
END:VEVENT
BEGIN:VEVENT
DTSTART;TZID=UTC:20250921T080000
DTEND;TZID=UTC:20250921T155500
DTSTAMP:20260424T132903
CREATED:20241219T181418Z
LAST-MODIFIED:20241219T181418Z
UID:25400-1758441600-1758470100@devimandir.com
SUMMARY:Pitri Paksh Ends- 21st@ 3:55pm
DESCRIPTION:
URL:https://devimandir.com/event/pitri-paksh-ends-21st-355pm/
CATEGORIES:Special event
END:VEVENT
BEGIN:VEVENT
DTSTART;TZID=UTC:20250921T083000
DTEND;TZID=UTC:20250921T130000
DTSTAMP:20260424T132903
CREATED:20250728T172256Z
LAST-MODIFIED:20250728T172256Z
UID:26467-1758443400-1758459600@devimandir.com
SUMMARY:Devi Mandir volunteer appreciation service & lunch
DESCRIPTION:
URL:https://devimandir.com/event/devi-mandir-volunteer-appreciation-service-lunch/
CATEGORIES:Puja-Every Sunday
END:VEVENT
BEGIN:VEVENT
DTSTART;TZID=UTC:20250921T090000
DTEND;TZID=UTC:20250921T120000
DTSTAMP:20260424T132903
CREATED:20240820T163157Z
LAST-MODIFIED:20240820T185135Z
UID:24233-1758445200-1758456000@devimandir.com
SUMMARY:Sunday Service-Puja-Prasad-Bhajans-Katha-Aarti
DESCRIPTION:
URL:https://devimandir.com/event/sunday-service-puja-prasad-bhajans-katha-aarti-70/
CATEGORIES:Puja-Every Sunday
END:VEVENT
BEGIN:VEVENT
DTSTART;TZID=UTC:20250921T150000
DTEND;TZID=UTC:20250921T190000
DTSTAMP:20260424T132903
CREATED:20250712T175630Z
LAST-MODIFIED:20250712T175630Z
UID:26433-1758466800-1758481200@devimandir.com
SUMMARY:Guruji Mandir- Satsang
DESCRIPTION:
URL:https://devimandir.com/event/guruji-mandir-satsang-20/
CATEGORIES:Special event
END:VEVENT
END:VCALENDAR