BEGIN:VCALENDAR
VERSION:2.0
PRODID:-//Devi Mandir Canada - ECPv6.15.16//NONSGML v1.0//EN
CALSCALE:GREGORIAN
METHOD:PUBLISH
X-WR-CALNAME:Devi Mandir Canada
X-ORIGINAL-URL:https://devimandir.com
X-WR-CALDESC:Events for Devi Mandir Canada
REFRESH-INTERVAL;VALUE=DURATION:PT1H
X-Robots-Tag:noindex
X-PUBLISHED-TTL:PT1H
BEGIN:VTIMEZONE
TZID:UTC
BEGIN:STANDARD
TZOFFSETFROM:+0000
TZOFFSETTO:+0000
TZNAME:UTC
DTSTART:20240101T000000
END:STANDARD
END:VTIMEZONE
BEGIN:VEVENT
DTSTART;TZID=UTC:20250908T080000
DTEND;TZID=UTC:20250920T200000
DTSTAMP:20260424T132822
CREATED:20240907T154001Z
LAST-MODIFIED:20241219T180714Z
UID:24694-1757318400-1758398400@devimandir.com
SUMMARY:Pitri Paksh Begins- (8th- 21st)
DESCRIPTION:
URL:https://devimandir.com/event/pitri-paksh-begins-2/
CATEGORIES:Fast & Festivals
END:VEVENT
BEGIN:VEVENT
DTSTART;TZID=UTC:20250918T180000
DTEND;TZID=UTC:20250918T200000
DTSTAMP:20260424T132822
CREATED:20240820T154948Z
LAST-MODIFIED:20240820T154948Z
UID:24204-1758218400-1758225600@devimandir.com
SUMMARY:Bharatanatyam dance class
DESCRIPTION:
URL:https://devimandir.com/event/bharatanatyam-dance-class-70/
CATEGORIES:Activity Classes
END:VEVENT
BEGIN:VEVENT
DTSTART;TZID=UTC:20250918T190000
DTEND;TZID=UTC:20250918T200000
DTSTAMP:20260424T132822
CREATED:20240820T161747Z
LAST-MODIFIED:20240820T161747Z
UID:24215-1758222000-1758225600@devimandir.com
SUMMARY:Ramayan Practice Session
DESCRIPTION:
URL:https://devimandir.com/event/ramayan-practice-session-68/
CATEGORIES:Group Chanting
END:VEVENT
END:VCALENDAR