BEGIN:VCALENDAR
VERSION:2.0
PRODID:-//Devi Mandir Canada - ECPv6.15.16//NONSGML v1.0//EN
CALSCALE:GREGORIAN
METHOD:PUBLISH
X-ORIGINAL-URL:https://devimandir.com
X-WR-CALDESC:Events for Devi Mandir Canada
REFRESH-INTERVAL;VALUE=DURATION:PT1H
X-Robots-Tag:noindex
X-PUBLISHED-TTL:PT1H
BEGIN:VTIMEZONE
TZID:UTC
BEGIN:STANDARD
TZOFFSETFROM:+0000
TZOFFSETTO:+0000
TZNAME:UTC
DTSTART:20240101T000000
END:STANDARD
END:VTIMEZONE
BEGIN:VEVENT
DTSTART;TZID=UTC:20250908T080000
DTEND;TZID=UTC:20250920T200000
DTSTAMP:20260424T051233
CREATED:20240907T154001Z
LAST-MODIFIED:20241219T180714Z
UID:24694-1757318400-1758398400@devimandir.com
SUMMARY:Pitri Paksh Begins- (8th- 21st)
DESCRIPTION:
URL:https://devimandir.com/event/pitri-paksh-begins-2/
CATEGORIES:Fast & Festivals
END:VEVENT
BEGIN:VEVENT
DTSTART;TZID=UTC:20250915T180000
DTEND;TZID=UTC:20250915T200000
DTSTAMP:20260424T051233
CREATED:20240820T153001Z
LAST-MODIFIED:20240820T153001Z
UID:24190-1757959200-1757966400@devimandir.com
SUMMARY:Shiv Puja-Abhishek-Archana-Prasad-Kirtan-Aarti
DESCRIPTION:
URL:https://devimandir.com/event/shiv-puja-abhishek-archana-prasad-kirtan-aarti-55/
CATEGORIES:Puja- Every Monday
END:VEVENT
BEGIN:VEVENT
DTSTART;TZID=UTC:20250915T180000
DTEND;TZID=UTC:20250915T200000
DTSTAMP:20260424T051233
CREATED:20240820T180756Z
LAST-MODIFIED:20240820T180756Z
UID:24285-1757959200-1757966400@devimandir.com
SUMMARY:Kathak dance class
DESCRIPTION:
URL:https://devimandir.com/event/kathak-dance-class-68/
CATEGORIES:Activity Classes
END:VEVENT
END:VCALENDAR