BEGIN:VCALENDAR
VERSION:2.0
PRODID:-//Devi Mandir Canada - ECPv6.15.16//NONSGML v1.0//EN
CALSCALE:GREGORIAN
METHOD:PUBLISH
X-WR-CALNAME:Devi Mandir Canada
X-ORIGINAL-URL:https://devimandir.com
X-WR-CALDESC:Events for Devi Mandir Canada
REFRESH-INTERVAL;VALUE=DURATION:PT1H
X-Robots-Tag:noindex
X-PUBLISHED-TTL:PT1H
BEGIN:VTIMEZONE
TZID:UTC
BEGIN:STANDARD
TZOFFSETFROM:+0000
TZOFFSETTO:+0000
TZNAME:UTC
DTSTART:20240101T000000
END:STANDARD
END:VTIMEZONE
BEGIN:VEVENT
DTSTART;TZID=UTC:20250908T080000
DTEND;TZID=UTC:20250920T200000
DTSTAMP:20260424T181706
CREATED:20240907T154001Z
LAST-MODIFIED:20241219T180714Z
UID:24694-1757318400-1758398400@devimandir.com
SUMMARY:Pitri Paksh Begins- (8th- 21st)
DESCRIPTION:
URL:https://devimandir.com/event/pitri-paksh-begins-2/
CATEGORIES:Fast & Festivals
END:VEVENT
BEGIN:VEVENT
DTSTART;TZID=UTC:20250914T080000
DTEND;TZID=UTC:20250914T130000
DTSTAMP:20260424T181706
CREATED:20250219T173704Z
LAST-MODIFIED:20250219T173704Z
UID:25831-1757836800-1757854800@devimandir.com
SUMMARY:Morning Puja sponsored
DESCRIPTION:
URL:https://devimandir.com/event/morning-puja-sponsored-18/
CATEGORIES:Puja-Every Sunday
END:VEVENT
BEGIN:VEVENT
DTSTART;TZID=UTC:20250914T090000
DTEND;TZID=UTC:20250914T120000
DTSTAMP:20260424T181706
CREATED:20240820T163032Z
LAST-MODIFIED:20240820T184939Z
UID:24230-1757840400-1757851200@devimandir.com
SUMMARY:Sunday Service-Puja-Prasad-Bhajans-Katha-Aarti
DESCRIPTION:
URL:https://devimandir.com/event/sunday-service-puja-prasad-bhajans-katha-aarti-69/
CATEGORIES:Puja-Every Sunday
END:VEVENT
BEGIN:VEVENT
DTSTART;TZID=UTC:20250914T150000
DTEND;TZID=UTC:20250914T190000
DTSTAMP:20260424T181706
CREATED:20250712T175537Z
LAST-MODIFIED:20250712T175537Z
UID:26431-1757862000-1757876400@devimandir.com
SUMMARY:Guruji Mandir- Satsang
DESCRIPTION:
URL:https://devimandir.com/event/guruji-mandir-satsang-19/
CATEGORIES:Special event
END:VEVENT
END:VCALENDAR