BEGIN:VCALENDAR
VERSION:2.0
PRODID:-//Devi Mandir Canada - ECPv6.15.16//NONSGML v1.0//EN
CALSCALE:GREGORIAN
METHOD:PUBLISH
X-ORIGINAL-URL:https://devimandir.com
X-WR-CALDESC:Events for Devi Mandir Canada
REFRESH-INTERVAL;VALUE=DURATION:PT1H
X-Robots-Tag:noindex
X-PUBLISHED-TTL:PT1H
BEGIN:VTIMEZONE
TZID:UTC
BEGIN:STANDARD
TZOFFSETFROM:+0000
TZOFFSETTO:+0000
TZNAME:UTC
DTSTART:20240101T000000
END:STANDARD
END:VTIMEZONE
BEGIN:VEVENT
DTSTART;TZID=UTC:20250908T080000
DTEND;TZID=UTC:20250920T200000
DTSTAMP:20260424T133417
CREATED:20240907T154001Z
LAST-MODIFIED:20241219T180714Z
UID:24694-1757318400-1758398400@devimandir.com
SUMMARY:Pitri Paksh Begins- (8th- 21st)
DESCRIPTION:
URL:https://devimandir.com/event/pitri-paksh-begins-2/
CATEGORIES:Fast & Festivals
END:VEVENT
BEGIN:VEVENT
DTSTART;TZID=UTC:20250912T180000
DTEND;TZID=UTC:20250912T200000
DTSTAMP:20260424T133417
CREATED:20240820T162010Z
LAST-MODIFIED:20240820T162010Z
UID:24217-1757700000-1757707200@devimandir.com
SUMMARY:Maa Durga Puja- Abhishek-Archana-Prasad-Kirtan-Aarti
DESCRIPTION:
URL:https://devimandir.com/event/maa-durga-puja-abhishek-archana-prasad-kirtan-aarti-69/
CATEGORIES:Puja-Every Friday
END:VEVENT
BEGIN:VEVENT
DTSTART;TZID=UTC:20250912T180000
DTEND;TZID=UTC:20250912T210000
DTSTAMP:20260424T133417
CREATED:20240820T162449Z
LAST-MODIFIED:20240820T162449Z
UID:24223-1757700000-1757710800@devimandir.com
SUMMARY:Bollywood dance class by Selena
DESCRIPTION:
URL:https://devimandir.com/event/bollywood-dance-class-by-selena-67/
CATEGORIES:Activity Classes
END:VEVENT
END:VCALENDAR