BEGIN:VCALENDAR
VERSION:2.0
PRODID:-//Devi Mandir Canada - ECPv6.15.16//NONSGML v1.0//EN
CALSCALE:GREGORIAN
METHOD:PUBLISH
X-ORIGINAL-URL:https://devimandir.com
X-WR-CALDESC:Events for Devi Mandir Canada
REFRESH-INTERVAL;VALUE=DURATION:PT1H
X-Robots-Tag:noindex
X-PUBLISHED-TTL:PT1H
BEGIN:VTIMEZONE
TZID:UTC
BEGIN:STANDARD
TZOFFSETFROM:+0000
TZOFFSETTO:+0000
TZNAME:UTC
DTSTART:20240101T000000
END:STANDARD
END:VTIMEZONE
BEGIN:VEVENT
DTSTART;TZID=UTC:20250811T170000
DTEND;TZID=UTC:20250815T200000
DTSTAMP:20260424T165308
CREATED:20241219T160745Z
LAST-MODIFIED:20241219T161510Z
UID:25374-1754931600-1755288000@devimandir.com
SUMMARY:Janmashtami- BHAGWAD YAGNA (11th- 15th)
DESCRIPTION:
URL:https://devimandir.com/event/janmashtami-yagna/
CATEGORIES:Special event
END:VEVENT
BEGIN:VEVENT
DTSTART;TZID=UTC:20250813T180000
DTEND;TZID=UTC:20250813T200000
DTSTAMP:20260424T165308
CREATED:20250117T183815Z
LAST-MODIFIED:20250117T183815Z
UID:25614-1755108000-1755115200@devimandir.com
SUMMARY:Bollywood Dance class by Shobha
DESCRIPTION:
URL:https://devimandir.com/event/bollywood-dance-class-by-shobha-79/
CATEGORIES:Activity Classes
END:VEVENT
END:VCALENDAR