BEGIN:VCALENDAR
VERSION:2.0
PRODID:-//Devi Mandir Canada - ECPv6.15.16//NONSGML v1.0//EN
CALSCALE:GREGORIAN
METHOD:PUBLISH
X-WR-CALNAME:Devi Mandir Canada
X-ORIGINAL-URL:https://devimandir.com
X-WR-CALDESC:Events for Devi Mandir Canada
REFRESH-INTERVAL;VALUE=DURATION:PT1H
X-Robots-Tag:noindex
X-PUBLISHED-TTL:PT1H
BEGIN:VTIMEZONE
TZID:UTC
BEGIN:STANDARD
TZOFFSETFROM:+0000
TZOFFSETTO:+0000
TZNAME:UTC
DTSTART:20240101T000000
END:STANDARD
END:VTIMEZONE
BEGIN:VEVENT
DTSTART;TZID=UTC:20250520T111000
DTEND;TZID=UTC:20250520T114500
DTSTAMP:20260425T142638
CREATED:20250428T173224Z
LAST-MODIFIED:20250514T154248Z
UID:26115-1747739400-1747741500@devimandir.com
SUMMARY:School visit- St Mary's
DESCRIPTION:
URL:https://devimandir.com/event/school-visit-st-marys/
END:VEVENT
BEGIN:VEVENT
DTSTART;TZID=UTC:20250520T180000
DTEND;TZID=UTC:20250520T200000
DTSTAMP:20260425T142638
CREATED:20240813T153809Z
LAST-MODIFIED:20240813T153809Z
UID:23654-1747764000-1747771200@devimandir.com
SUMMARY:Hanuman ji Puja-Abhishek-Archana-Prasad-Chalisa-Bhajans- Aarti
DESCRIPTION:
URL:https://devimandir.com/event/hanuman-ji-puja-abhishek-archana-prasad-chalisa-bhajans-aarti-48/
CATEGORIES:Puja-Every Tuesday
END:VEVENT
END:VCALENDAR