BEGIN:VCALENDAR
VERSION:2.0
PRODID:-//Devi Mandir Canada - ECPv6.15.16//NONSGML v1.0//EN
CALSCALE:GREGORIAN
METHOD:PUBLISH
X-ORIGINAL-URL:https://devimandir.com
X-WR-CALDESC:Events for Devi Mandir Canada
REFRESH-INTERVAL;VALUE=DURATION:PT1H
X-Robots-Tag:noindex
X-PUBLISHED-TTL:PT1H
BEGIN:VTIMEZONE
TZID:UTC
BEGIN:STANDARD
TZOFFSETFROM:+0000
TZOFFSETTO:+0000
TZNAME:UTC
DTSTART:20240101T000000
END:STANDARD
END:VTIMEZONE
BEGIN:VEVENT
DTSTART;TZID=UTC:20250207T105600
DTEND;TZID=UTC:20250208T094500
DTSTAMP:20260421T044939
CREATED:20240814T160541Z
LAST-MODIFIED:20240814T160651Z
UID:23762-1738925760-1739007900@devimandir.com
SUMMARY:Jaya Ekadashi
DESCRIPTION:Begins – 10:56 AM\, Feb 07\nEnds – 09:45 AM\, Feb 08
URL:https://devimandir.com/event/jaya-ekadashi/
CATEGORIES:Fast & Festivals
END:VEVENT
BEGIN:VEVENT
DTSTART;TZID=UTC:20250207T180000
DTEND;TZID=UTC:20250207T200000
DTSTAMP:20260421T044939
CREATED:20240807T181249Z
LAST-MODIFIED:20240807T181315Z
UID:23354-1738951200-1738958400@devimandir.com
SUMMARY:Maa Durga Puja- Abhishek-Archana-Prasad-Kirtan-Aarti
DESCRIPTION:
URL:https://devimandir.com/event/maa-durga-puja-abhishek-archana-prasad-kirtan-aarti-35/
CATEGORIES:Puja-Every Sunday
END:VEVENT
BEGIN:VEVENT
DTSTART;TZID=UTC:20250207T180000
DTEND;TZID=UTC:20250207T210000
DTSTAMP:20260421T044939
CREATED:20240808T163132Z
LAST-MODIFIED:20240813T171935Z
UID:23417-1738951200-1738962000@devimandir.com
SUMMARY:Bollywood dance class by Selena
DESCRIPTION:
URL:https://devimandir.com/event/bollywood-dance-class-by-selena-35/
CATEGORIES:Activity Classes
END:VEVENT
END:VCALENDAR