BEGIN:VCALENDAR
VERSION:2.0
PRODID:-//Devi Mandir Canada - ECPv6.15.16//NONSGML v1.0//EN
CALSCALE:GREGORIAN
METHOD:PUBLISH
X-ORIGINAL-URL:https://devimandir.com
X-WR-CALDESC:Events for Devi Mandir Canada
REFRESH-INTERVAL;VALUE=DURATION:PT1H
X-Robots-Tag:noindex
X-PUBLISHED-TTL:PT1H
BEGIN:VTIMEZONE
TZID:UTC
BEGIN:STANDARD
TZOFFSETFROM:+0000
TZOFFSETTO:+0000
TZNAME:UTC
DTSTART:20240101T000000
END:STANDARD
END:VTIMEZONE
BEGIN:VEVENT
DTSTART;TZID=UTC:20250126T080000
DTEND;TZID=UTC:20250126T130000
DTSTAMP:20260419T205435
CREATED:20250124T174719Z
LAST-MODIFIED:20250124T174719Z
UID:25744-1737878400-1737896400@devimandir.com
SUMMARY:Morning Puja sponsored
DESCRIPTION:
URL:https://devimandir.com/event/morning-puja-sponsored-14/
CATEGORIES:Puja-Every Sunday
END:VEVENT
BEGIN:VEVENT
DTSTART;TZID=UTC:20250126T130000
DTEND;TZID=UTC:20250126T140000
DTSTAMP:20260419T205435
CREATED:20250116T171957Z
LAST-MODIFIED:20250116T171957Z
UID:25532-1737896400-1737900000@devimandir.com
SUMMARY:Chautaal Group
DESCRIPTION:
URL:https://devimandir.com/event/chautaal-group-2/
CATEGORIES:Group Chanting
END:VEVENT
BEGIN:VEVENT
DTSTART;TZID=UTC:20250126T150000
DTEND;TZID=UTC:20250126T190000
DTSTAMP:20260419T205435
CREATED:20250118T180833Z
LAST-MODIFIED:20250118T180833Z
UID:25677-1737903600-1737918000@devimandir.com
SUMMARY:Private Satsang
DESCRIPTION:
URL:https://devimandir.com/event/private-satsang-2/
CATEGORIES:Special event
END:VEVENT
BEGIN:VEVENT
DTSTART;TZID=UTC:20250126T090000
DTEND;TZID=UTC:20250126T120000
DTSTAMP:20260419T205435
CREATED:20240723T165340Z
LAST-MODIFIED:20240821T181139Z
UID:23146-1737882000-1737892800@devimandir.com
SUMMARY:Sunday Service-Puja-Prasad-Bhajans-Katha-Aarti
DESCRIPTION:
URL:https://devimandir.com/event/sunday-service-puja-prasad-bhajans-katha-aarti-32/
CATEGORIES:Puja-Every Sunday
END:VEVENT
END:VCALENDAR