BEGIN:VCALENDAR
VERSION:2.0
PRODID:-//Devi Mandir Canada - ECPv6.15.16//NONSGML v1.0//EN
CALSCALE:GREGORIAN
METHOD:PUBLISH
X-WR-CALNAME:Devi Mandir Canada
X-ORIGINAL-URL:https://devimandir.com
X-WR-CALDESC:Events for Devi Mandir Canada
REFRESH-INTERVAL;VALUE=DURATION:PT1H
X-Robots-Tag:noindex
X-PUBLISHED-TTL:PT1H
BEGIN:VTIMEZONE
TZID:UTC
BEGIN:STANDARD
TZOFFSETFROM:+0000
TZOFFSETTO:+0000
TZNAME:UTC
DTSTART:20240101T000000
END:STANDARD
END:VTIMEZONE
BEGIN:VEVENT
DTSTART;TZID=UTC:20250109T015200
DTEND;TZID=UTC:20250109T234900
DTSTAMP:20260420T185306
CREATED:20240809T164852Z
LAST-MODIFIED:20241109T171023Z
UID:23438-1736387520-1736466540@devimandir.com
SUMMARY:EKADASHI- Pausha Putrada - Vaikuntha Ekadashi
DESCRIPTION:Begins – 01:52 AM\, Jan 09\nEnds – 11:49 PM\, Jan 09
URL:https://devimandir.com/event/pausha-putrada-ekadashi-vaikuntha-ekadashi/
CATEGORIES:Fast & Festivals
END:VEVENT
BEGIN:VEVENT
DTSTART;TZID=UTC:20250109T180000
DTEND;TZID=UTC:20250109T200000
DTSTAMP:20260420T185306
CREATED:20240723T173805Z
LAST-MODIFIED:20240723T173851Z
UID:23179-1736445600-1736452800@devimandir.com
SUMMARY:Bharatanatyam dance class
DESCRIPTION:
URL:https://devimandir.com/event/bharatanatyam-dance-class-30/
CATEGORIES:Activity Classes
END:VEVENT
BEGIN:VEVENT
DTSTART;TZID=UTC:20250109T190000
DTEND;TZID=UTC:20250109T200000
DTSTAMP:20260420T185306
CREATED:20240723T172328Z
LAST-MODIFIED:20240723T172358Z
UID:23166-1736449200-1736452800@devimandir.com
SUMMARY:Ramayan Practice Session
DESCRIPTION:
URL:https://devimandir.com/event/ramayan-practice-session-2/
CATEGORIES:Group Chanting
END:VEVENT
END:VCALENDAR