BEGIN:VCALENDAR
VERSION:2.0
PRODID:-//Devi Mandir Canada - ECPv6.15.16//NONSGML v1.0//EN
CALSCALE:GREGORIAN
METHOD:PUBLISH
X-WR-CALNAME:Devi Mandir Canada
X-ORIGINAL-URL:https://devimandir.com
X-WR-CALDESC:Events for Devi Mandir Canada
REFRESH-INTERVAL;VALUE=DURATION:PT1H
X-Robots-Tag:noindex
X-PUBLISHED-TTL:PT1H
BEGIN:VTIMEZONE
TZID:UTC
BEGIN:STANDARD
TZOFFSETFROM:+0000
TZOFFSETTO:+0000
TZNAME:UTC
DTSTART:20240101T000000
END:STANDARD
END:VTIMEZONE
BEGIN:VEVENT
DTSTART;TZID=UTC:20250113T180000
DTEND;TZID=UTC:20250113T200000
DTSTAMP:20260420T235353
CREATED:20240723T160855Z
LAST-MODIFIED:20240723T161111Z
UID:23123-1736791200-1736798400@devimandir.com
SUMMARY:Shiv Puja-Abhishek-Archana-Prasad-Kirtan-Aarti
DESCRIPTION:
URL:https://devimandir.com/event/shiv-puja-abhishek-archana-prasad-kirtan-aarti-14/
CATEGORIES:Puja- Every Monday
END:VEVENT
BEGIN:VEVENT
DTSTART;TZID=UTC:20250106T180000
DTEND;TZID=UTC:20250106T200000
DTSTAMP:20260420T235353
CREATED:20240807T160117Z
LAST-MODIFIED:20240807T160140Z
UID:23302-1736186400-1736193600@devimandir.com
SUMMARY:Kathak dance class
DESCRIPTION:
URL:https://devimandir.com/event/kathak-dance-class-30/
CATEGORIES:Activity Classes
END:VEVENT
END:VCALENDAR