BEGIN:VCALENDAR
VERSION:2.0
PRODID:-//Devi Mandir Canada - ECPv6.15.16//NONSGML v1.0//EN
CALSCALE:GREGORIAN
METHOD:PUBLISH
X-ORIGINAL-URL:https://devimandir.com
X-WR-CALDESC:Events for Devi Mandir Canada
REFRESH-INTERVAL;VALUE=DURATION:PT1H
X-Robots-Tag:noindex
X-PUBLISHED-TTL:PT1H
BEGIN:VTIMEZONE
TZID:UTC
BEGIN:STANDARD
TZOFFSETFROM:+0000
TZOFFSETTO:+0000
TZNAME:UTC
DTSTART:20240101T000000
END:STANDARD
END:VTIMEZONE
BEGIN:VEVENT
DTSTART;TZID=UTC:20250105T090000
DTEND;TZID=UTC:20250105T120000
DTSTAMP:20260420T104954
CREATED:20240704T181958Z
LAST-MODIFIED:20240704T182047Z
UID:22889-1736067600-1736078400@devimandir.com
SUMMARY:Sunday Service-Puja-Prasad-Bhajans-Katha-Aarti
DESCRIPTION:
URL:https://devimandir.com/event/sunday-service-puja-prasad-bhajans-katha-aarti-25/
CATEGORIES:Puja-Every Sunday
END:VEVENT
BEGIN:VEVENT
DTSTART;TZID=UTC:20250105T130000
DTEND;TZID=UTC:20250105T160000
DTSTAMP:20260420T104954
CREATED:20240705T153435Z
LAST-MODIFIED:20240705T153518Z
UID:22915-1736082000-1736092800@devimandir.com
SUMMARY:Bollywood Dance class by Shobha
DESCRIPTION:
URL:https://devimandir.com/event/bollywood-dance-class-by-shobha-17/
CATEGORIES:Activity Classes
END:VEVENT
BEGIN:VEVENT
DTSTART;TZID=UTC:20250105T160000
DTEND;TZID=UTC:20250105T200000
DTSTAMP:20260420T104954
CREATED:20250103T175958Z
LAST-MODIFIED:20250103T175958Z
UID:25476-1736092800-1736107200@devimandir.com
SUMMARY:Puja & Bhojan
DESCRIPTION:
URL:https://devimandir.com/event/puja-bhojan/
CATEGORIES:Special event
END:VEVENT
END:VCALENDAR