BEGIN:VCALENDAR
VERSION:2.0
PRODID:-//Devi Mandir Canada - ECPv6.15.16//NONSGML v1.0//EN
CALSCALE:GREGORIAN
METHOD:PUBLISH
X-ORIGINAL-URL:https://devimandir.com
X-WR-CALDESC:Events for Devi Mandir Canada
REFRESH-INTERVAL;VALUE=DURATION:PT1H
X-Robots-Tag:noindex
X-PUBLISHED-TTL:PT1H
BEGIN:VTIMEZONE
TZID:UTC
BEGIN:STANDARD
TZOFFSETFROM:+0000
TZOFFSETTO:+0000
TZNAME:UTC
DTSTART:20230101T000000
END:STANDARD
END:VTIMEZONE
BEGIN:VEVENT
DTSTART;TZID=UTC:20241125T143100
DTEND;TZID=UTC:20241126T171700
DTSTAMP:20260420T054033
CREATED:20240814T154629Z
LAST-MODIFIED:20240814T154742Z
UID:23754-1732545060-1732641420@devimandir.com
SUMMARY:Utpanna Ekadashi
DESCRIPTION:Begins – 02:31 PM\, Nov 25\nEnds – 05:17 PM\, Nov 26
URL:https://devimandir.com/event/utpanna-ekadashi/
CATEGORIES:Fast & Festivals
END:VEVENT
BEGIN:VEVENT
DTSTART;TZID=UTC:20241126T180000
DTEND;TZID=UTC:20241126T200000
DTSTAMP:20260420T054033
CREATED:20240703T182019Z
LAST-MODIFIED:20240703T182040Z
UID:22802-1732644000-1732651200@devimandir.com
SUMMARY:Hanuman ji Puja-Abhishek-Archana-Prasad-Chalisa-Bhajans- Aarti
DESCRIPTION:
URL:https://devimandir.com/event/hanuman-ji-puja-abhishek-archana-prasad-chalisa-bhajans-aarti-23/
CATEGORIES:Puja-Every Tuesday
END:VEVENT
END:VCALENDAR