BEGIN:VCALENDAR
VERSION:2.0
PRODID:-//Devi Mandir Canada - ECPv6.15.16//NONSGML v1.0//EN
CALSCALE:GREGORIAN
METHOD:PUBLISH
X-WR-CALNAME:Devi Mandir Canada
X-ORIGINAL-URL:https://devimandir.com
X-WR-CALDESC:Events for Devi Mandir Canada
REFRESH-INTERVAL;VALUE=DURATION:PT1H
X-Robots-Tag:noindex
X-PUBLISHED-TTL:PT1H
BEGIN:VTIMEZONE
TZID:UTC
BEGIN:STANDARD
TZOFFSETFROM:+0000
TZOFFSETTO:+0000
TZNAME:UTC
DTSTART:20230101T000000
END:STANDARD
END:VTIMEZONE
BEGIN:VEVENT
DTSTART;TZID=UTC:20241118T110000
DTEND;TZID=UTC:20241118T123000
DTSTAMP:20260420T185319
CREATED:20241017T165200Z
LAST-MODIFIED:20241115T164727Z
UID:24924-1731927600-1731933000@devimandir.com
SUMMARY:SCHOOL VISIT-Notre Dame Catholic
DESCRIPTION:
URL:https://devimandir.com/event/school-visit-4/
CATEGORIES:Special event
END:VEVENT
BEGIN:VEVENT
DTSTART;TZID=UTC:20241118T180000
DTEND;TZID=UTC:20241118T200000
DTSTAMP:20260420T185319
CREATED:20240703T180702Z
LAST-MODIFIED:20240703T180817Z
UID:22790-1731952800-1731960000@devimandir.com
SUMMARY:Shiv Puja-Abhishek-Archana-Prasad-Kirtan-Aarti
DESCRIPTION:
URL:https://devimandir.com/event/shiv-puja-abhishek-archana-prasad-kirtan-aarti-7/
CATEGORIES:Puja- Every Monday
END:VEVENT
BEGIN:VEVENT
DTSTART;TZID=UTC:20241118T180000
DTEND;TZID=UTC:20241118T200000
DTSTAMP:20260420T185319
CREATED:20240704T155629Z
LAST-MODIFIED:20240704T155734Z
UID:22852-1731952800-1731960000@devimandir.com
SUMMARY:Kathak dance class
DESCRIPTION:
URL:https://devimandir.com/event/kathak-dance-class-22/
CATEGORIES:Activity Classes
END:VEVENT
BEGIN:VEVENT
DTSTART;TZID=UTC:20241118T231300
DTEND;TZID=UTC:20241120T014600
DTSTAMP:20260420T185319
CREATED:20240814T152343Z
LAST-MODIFIED:20240814T152724Z
UID:23743-1731971580-1732067160@devimandir.com
SUMMARY:Margashirsha Amavasya
DESCRIPTION:Begins – 11:13 PM\, Nov 18\n\nEnds – 01:46 AM\, Nov 20
URL:https://devimandir.com/event/margashirsha-amavasya/
CATEGORIES:Fast & Festivals
END:VEVENT
END:VCALENDAR