BEGIN:VCALENDAR
VERSION:2.0
PRODID:-//Devi Mandir Canada - ECPv6.15.16//NONSGML v1.0//EN
CALSCALE:GREGORIAN
METHOD:PUBLISH
X-ORIGINAL-URL:https://devimandir.com
X-WR-CALDESC:Events for Devi Mandir Canada
REFRESH-INTERVAL;VALUE=DURATION:PT1H
X-Robots-Tag:noindex
X-PUBLISHED-TTL:PT1H
BEGIN:VTIMEZONE
TZID:UTC
BEGIN:STANDARD
TZOFFSETFROM:+0000
TZOFFSETTO:+0000
TZNAME:UTC
DTSTART:20230101T000000
END:STANDARD
END:VTIMEZONE
BEGIN:VEVENT
DTSTART;TZID=UTC:20241115T160000
DTEND;TZID=UTC:20241117T200000
DTSTAMP:20260420T220859
CREATED:20240710T174455Z
LAST-MODIFIED:20240710T174640Z
UID:23052-1731686400-1731873600@devimandir.com
SUMMARY:Yagya by Pt. Munelal Ji
DESCRIPTION:
URL:https://devimandir.com/event/yagya-by-pt-munelalji/
CATEGORIES:Special event
END:VEVENT
BEGIN:VEVENT
DTSTART;TZID=UTC:20241116T110000
DTEND;TZID=UTC:20241116T130000
DTSTAMP:20260420T220859
CREATED:20241025T154235Z
LAST-MODIFIED:20241025T154235Z
UID:24986-1731754800-1731762000@devimandir.com
SUMMARY:Hindu Heritage celebration month
DESCRIPTION:
URL:https://devimandir.com/event/hindu-heritage-celebration-month/
CATEGORIES:Special event
END:VEVENT
BEGIN:VEVENT
DTSTART;TZID=UTC:20241116T120000
DTEND;TZID=UTC:20241116T160000
DTSTAMP:20260420T220859
CREATED:20241111T154056Z
LAST-MODIFIED:20241111T154056Z
UID:25038-1731758400-1731772800@devimandir.com
SUMMARY:GROUP PRACTICE- AUD.
DESCRIPTION:
URL:https://devimandir.com/event/group-practice-aud-2/
CATEGORIES:Activity Classes
END:VEVENT
END:VCALENDAR