BEGIN:VCALENDAR
VERSION:2.0
PRODID:-//Devi Mandir Canada - ECPv6.15.16//NONSGML v1.0//EN
CALSCALE:GREGORIAN
METHOD:PUBLISH
X-WR-CALNAME:Devi Mandir Canada
X-ORIGINAL-URL:https://devimandir.com
X-WR-CALDESC:Events for Devi Mandir Canada
REFRESH-INTERVAL;VALUE=DURATION:PT1H
X-Robots-Tag:noindex
X-PUBLISHED-TTL:PT1H
BEGIN:VTIMEZONE
TZID:UTC
BEGIN:STANDARD
TZOFFSETFROM:+0000
TZOFFSETTO:+0000
TZNAME:UTC
DTSTART:20230101T000000
END:STANDARD
END:VTIMEZONE
BEGIN:VEVENT
DTSTART;TZID=UTC:20241111T081600
DTEND;TZID=UTC:20241112T173400
DTSTAMP:20260420T235418
CREATED:20240814T154449Z
LAST-MODIFIED:20240814T154510Z
UID:23752-1731312960-1731432840@devimandir.com
SUMMARY:Devutthana Ekadashi
DESCRIPTION:Begins – 08:16 AM\, Nov 11\nEnds – 05:34 AM\, Nov 12
URL:https://devimandir.com/event/devutthana-ekadashi/
CATEGORIES:Fast & Festivals
END:VEVENT
BEGIN:VEVENT
DTSTART;TZID=UTC:20241111T180000
DTEND;TZID=UTC:20241111T200000
DTSTAMP:20260420T235418
CREATED:20240703T180020Z
LAST-MODIFIED:20240703T180020Z
UID:22788-1731348000-1731355200@devimandir.com
SUMMARY:Shiv Puja-Abhishek-Archana-Prasad-Kirtan-Aarti
DESCRIPTION:
URL:https://devimandir.com/event/shiv-puja-abhishek-archana-prasad-kirtan-aarti-6/
CATEGORIES:Puja- Every Monday
END:VEVENT
BEGIN:VEVENT
DTSTART;TZID=UTC:20241111T180000
DTEND;TZID=UTC:20241111T200000
DTSTAMP:20260420T235418
CREATED:20240704T154946Z
LAST-MODIFIED:20240704T155006Z
UID:22848-1731348000-1731355200@devimandir.com
SUMMARY:Kathak dance class
DESCRIPTION:
URL:https://devimandir.com/event/kathak-dance-class-21/
CATEGORIES:Activity Classes
END:VEVENT
END:VCALENDAR