BEGIN:VCALENDAR
VERSION:2.0
PRODID:-//Devi Mandir Canada - ECPv6.15.16//NONSGML v1.0//EN
CALSCALE:GREGORIAN
METHOD:PUBLISH
X-WR-CALNAME:Devi Mandir Canada
X-ORIGINAL-URL:https://devimandir.com
X-WR-CALDESC:Events for Devi Mandir Canada
REFRESH-INTERVAL;VALUE=DURATION:PT1H
X-Robots-Tag:noindex
X-PUBLISHED-TTL:PT1H
BEGIN:VTIMEZONE
TZID:UTC
BEGIN:STANDARD
TZOFFSETFROM:+0000
TZOFFSETTO:+0000
TZNAME:UTC
DTSTART:20230101T000000
END:STANDARD
END:VTIMEZONE
BEGIN:VEVENT
DTSTART;VALUE=DATE:20241003
DTEND;VALUE=DATE:20241006
DTSTAMP:20260419T211736
CREATED:20240207T205515Z
LAST-MODIFIED:20240207T205515Z
UID:21852-1727913600-1728172799@devimandir.com
SUMMARY:SHRAAD NAVRAATRI BEGINS
DESCRIPTION:
URL:https://devimandir.com/event/shraad-navraatri-begins/
CATEGORIES:Fast & Festivals
END:VEVENT
BEGIN:VEVENT
DTSTART;TZID=UTC:20241003T173000
DTEND;TZID=UTC:20241007T210000
DTSTAMP:20260419T211736
CREATED:20240805T151452Z
LAST-MODIFIED:20240810T145817Z
UID:23263-1727976600-1728334800@devimandir.com
SUMMARY:Pandit Neil-Officiating
DESCRIPTION:
URL:https://devimandir.com/event/pandit-neil-bhajanavali/
CATEGORIES:Fast & Festivals
END:VEVENT
BEGIN:VEVENT
DTSTART;VALUE=DATE:20241004
DTEND;VALUE=DATE:20241005
DTSTAMP:20260419T211736
CREATED:20240207T205538Z
LAST-MODIFIED:20240207T205538Z
UID:21853-1728000000-1728086399@devimandir.com
SUMMARY:SHRAAD NAVRAATRI - 2
DESCRIPTION:
URL:https://devimandir.com/event/shraad-navraatri-2/
CATEGORIES:Fast & Festivals
END:VEVENT
BEGIN:VEVENT
DTSTART;TZID=UTC:20241004T163000
DTEND;TZID=UTC:20241004T200000
DTSTAMP:20260419T211736
CREATED:20240708T163016Z
LAST-MODIFIED:20240926T172521Z
UID:23008-1728059400-1728072000@devimandir.com
SUMMARY:Navratri puja booked-by Sponsor
DESCRIPTION:
URL:https://devimandir.com/event/navratri-puja-sponsored/
CATEGORIES:Fast & Festivals
END:VEVENT
BEGIN:VEVENT
DTSTART;TZID=UTC:20241004T180000
DTEND;TZID=UTC:20241004T200000
DTSTAMP:20260419T211736
CREATED:20240625T180320Z
LAST-MODIFIED:20240625T180407Z
UID:22561-1728064800-1728072000@devimandir.com
SUMMARY:Maa Durga Puja- Abhishek-Archana-Prasad-Kirtan-Aarti
DESCRIPTION:
URL:https://devimandir.com/event/maa-durga-puja-abhishek-archana-prasad-kirtan-aarti-16/
CATEGORIES:Puja-Every Friday
END:VEVENT
BEGIN:VEVENT
DTSTART;TZID=UTC:20241004T180000
DTEND;TZID=UTC:20241004T210000
DTSTAMP:20260419T211736
CREATED:20240702T150619Z
LAST-MODIFIED:20240702T150619Z
UID:22728-1728064800-1728075600@devimandir.com
SUMMARY:Bollywood dance class by Selena
DESCRIPTION:
URL:https://devimandir.com/event/bollywood-dance-class-by-selena-16/
CATEGORIES:Activity Classes
END:VEVENT
END:VCALENDAR