BEGIN:VCALENDAR
VERSION:2.0
PRODID:-//Devi Mandir Canada - ECPv6.15.16//NONSGML v1.0//EN
CALSCALE:GREGORIAN
METHOD:PUBLISH
X-ORIGINAL-URL:https://devimandir.com
X-WR-CALDESC:Events for Devi Mandir Canada
REFRESH-INTERVAL;VALUE=DURATION:PT1H
X-Robots-Tag:noindex
X-PUBLISHED-TTL:PT1H
BEGIN:VTIMEZONE
TZID:UTC
BEGIN:STANDARD
TZOFFSETFROM:+0000
TZOFFSETTO:+0000
TZNAME:UTC
DTSTART:20230101T000000
END:STANDARD
END:VTIMEZONE
BEGIN:VEVENT
DTSTART;VALUE=DATE:20240919
DTEND;VALUE=DATE:20240920
DTSTAMP:20260420T071312
CREATED:20240207T204734Z
LAST-MODIFIED:20240207T204734Z
UID:21816-1726704000-1726790399@devimandir.com
SUMMARY:PITRI PAKSH Dwitiya
DESCRIPTION:
URL:https://devimandir.com/event/pitri-paksh-dwitiya/
CATEGORIES:Fast & Festivals
END:VEVENT
BEGIN:VEVENT
DTSTART;TZID=UTC:20240919T180000
DTEND;TZID=UTC:20240919T200000
DTSTAMP:20260420T071312
CREATED:20240701T195403Z
LAST-MODIFIED:20240701T195543Z
UID:22714-1726768800-1726776000@devimandir.com
SUMMARY:Bharatanatyam dance class
DESCRIPTION:
URL:https://devimandir.com/event/bharatanatyam-dance-class-15/
CATEGORIES:Activity Classes
END:VEVENT
BEGIN:VEVENT
DTSTART;TZID=UTC:20240919T190000
DTEND;TZID=UTC:20240919T200000
DTSTAMP:20260420T071312
CREATED:20240629T172918Z
LAST-MODIFIED:20240629T172939Z
UID:22611-1726772400-1726776000@devimandir.com
SUMMARY:Ramayan Practice Session
DESCRIPTION:
URL:https://devimandir.com/event/ramayan-practice-session-12/
CATEGORIES:Group Chanting
END:VEVENT
END:VCALENDAR