BEGIN:VCALENDAR
VERSION:2.0
PRODID:-//Devi Mandir Canada - ECPv6.15.16//NONSGML v1.0//EN
CALSCALE:GREGORIAN
METHOD:PUBLISH
X-ORIGINAL-URL:https://devimandir.com
X-WR-CALDESC:Events for Devi Mandir Canada
REFRESH-INTERVAL;VALUE=DURATION:PT1H
X-Robots-Tag:noindex
X-PUBLISHED-TTL:PT1H
BEGIN:VTIMEZONE
TZID:UTC
BEGIN:STANDARD
TZOFFSETFROM:+0000
TZOFFSETTO:+0000
TZNAME:UTC
DTSTART:20230101T000000
END:STANDARD
END:VTIMEZONE
BEGIN:VEVENT
DTSTART;TZID=UTC:20240912T170000
DTEND;TZID=UTC:20240913T210000
DTSTAMP:20260420T071307
CREATED:20240624T173521Z
LAST-MODIFIED:20240624T173541Z
UID:22500-1726160400-1726261200@devimandir.com
SUMMARY:SHRI GANESH YAGNA
DESCRIPTION:
URL:https://devimandir.com/event/shri-ganesh-yagna/
CATEGORIES:Fast & Festivals
END:VEVENT
BEGIN:VEVENT
DTSTART;TZID=UTC:20240912T180000
DTEND;TZID=UTC:20240912T200000
DTSTAMP:20260420T071307
CREATED:20240701T194839Z
LAST-MODIFIED:20240701T194859Z
UID:22709-1726164000-1726171200@devimandir.com
SUMMARY:Bharatanatyam dance class
DESCRIPTION:
URL:https://devimandir.com/event/bharatanatyam-dance-class-13/
CATEGORIES:Activity Classes
END:VEVENT
BEGIN:VEVENT
DTSTART;TZID=UTC:20240912T180000
DTEND;TZID=UTC:20240912T200000
DTSTAMP:20260420T071307
CREATED:20240911T162214Z
LAST-MODIFIED:20240911T162315Z
UID:24731-1726164000-1726171200@devimandir.com
SUMMARY:Sponsored by Ramayan Group
DESCRIPTION:
URL:https://devimandir.com/event/sponsored-by-ramayan-group/
CATEGORIES:Special event
END:VEVENT
BEGIN:VEVENT
DTSTART;TZID=UTC:20240912T190000
DTEND;TZID=UTC:20240912T200000
DTSTAMP:20260420T071307
CREATED:20240629T172611Z
LAST-MODIFIED:20240629T172633Z
UID:22609-1726167600-1726171200@devimandir.com
SUMMARY:Ramayan Practice Session
DESCRIPTION:
URL:https://devimandir.com/event/ramayan-practice-session-11/
CATEGORIES:Group Chanting
END:VEVENT
END:VCALENDAR